BEGIN:VCALENDAR
VERSION:2.0
PRODID:-//Michael Helbing - ECPv6.15.20//NONSGML v1.0//EN
CALSCALE:GREGORIAN
METHOD:PUBLISH
X-WR-CALNAME:Michael Helbing
X-ORIGINAL-URL:https://michaelhelbing.de
X-WR-CALDESC:Veranstaltungen für Michael Helbing
REFRESH-INTERVAL;VALUE=DURATION:PT1H
X-Robots-Tag:noindex
X-PUBLISHED-TTL:PT1H
BEGIN:VTIMEZONE
TZID:Europe/Berlin
BEGIN:DAYLIGHT
TZOFFSETFROM:+0100
TZOFFSETTO:+0200
TZNAME:CEST
DTSTART:20240331T010000
END:DAYLIGHT
BEGIN:STANDARD
TZOFFSETFROM:+0200
TZOFFSETTO:+0100
TZNAME:CET
DTSTART:20241027T010000
END:STANDARD
BEGIN:DAYLIGHT
TZOFFSETFROM:+0100
TZOFFSETTO:+0200
TZNAME:CEST
DTSTART:20250330T010000
END:DAYLIGHT
BEGIN:STANDARD
TZOFFSETFROM:+0200
TZOFFSETTO:+0100
TZNAME:CET
DTSTART:20251026T010000
END:STANDARD
BEGIN:DAYLIGHT
TZOFFSETFROM:+0100
TZOFFSETTO:+0200
TZNAME:CEST
DTSTART:20260329T010000
END:DAYLIGHT
BEGIN:STANDARD
TZOFFSETFROM:+0200
TZOFFSETTO:+0100
TZNAME:CET
DTSTART:20261025T010000
END:STANDARD
END:VTIMEZONE
BEGIN:VEVENT
DTSTART;VALUE=DATE:20250809
DTEND;VALUE=DATE:20250811
DTSTAMP:20260423T222011
CREATED:20250122T141901Z
LAST-MODIFIED:20250124T103837Z
UID:10000046-1754697600-1754870399@michaelhelbing.de
SUMMARY:Die logopädische Versorgung von Atemwegserkrankungen in Köln!
DESCRIPTION:Live in Köln! \nPraktische Strategien für die Atem-\, Stimm- und Schlucktherapie\nNichts ist so essentiell wie die Luft\, die wir dringend zum Leben benötigen. Luft\, ohne die wir nicht eine Minute auskommen können. Wenn eine Atemwegserkrankung vorliegt\, leiden die PatientInnen unter Atemnot\, die Vitalkapazität sinkt\, der Alltag ist immer schwerer zu bestreiten und Komplikationen auf mehreren Ebenen drohen. \nIn diesem Kurs werden Sie sich intensiv mit den Atemwegserkrankungen und insbesondere mit der chronisch obstruktiven Lungenerkrankung (COPD)\, dem Lungenemphysem und der Lungenfibrose auseinandersetzen. Sie erhalten Wissen\, um in Ihrem therapeutischen Alltag auf PatientInnen mit diesen Erkrankungen optimal einzugehen\, sie zu untersuchen und im Hinblick auf die logopädische Arbeit zu behandeln. \nSie werden Übungen und methodische Ansätze lernen\, die Sie sicher in Ihrem Therapiealltag einfügen können. Im Kurs erhalten Sie eine genaue und praxisorientierte Anleitung und werden Sicherheit im Umgang mit PatientInnen mit Atemwegserkrankungen erlangen. \n\nTherapie von logopädischer Klientel mit Atemwegserkrankungen\ndie Behandlung der COPD\, des Lungenemphysems und der Lungenfibrose mit Hilfe des positive expiratoric pressure (PEP) und der Semi-Occluded Vocal Tract Exercises (SOVTE)\nmanuelle Techniken und Bewegungsformen für Teilbereiche wie u.a. Sekretmobilisation\, Thoraxmobilisation\nRhythmisierung der Atembewegung und einer costoabdominalen Atemform\nFörderung einer ökonomisch-physiologischen Atem-\, Stimm- und Bewegungsform\nCOPD in der Behandlung von Dysphagien\, Dysphonien und Dysarthrien\nSpannungsfeld COPD und Kognition\npräventive Ansätze (Pneumonieprophylaxe\, Lungensport & Singen im Alter)\nEinsatz der Atemtherapie bei fachübergreifenden Inhalten: u.a. Psychosomatik\, kognitive Störungen\,- neurologische Erkrankungen und Bewegungsstörungen\nBerücksichtigung von Störungsbildern wie Mukoviszidose\, Lungenhochdruck u.a.
URL:https://michaelhelbing.de/termin/die-logopaedische-versorgung-von-atemwegserkrankungen-in-koeln/
LOCATION:ProLog WISSEN GmbH\, Olpener Str. 59\, Köln\, Nordrhein Westfalen\, 51103\, Germany
CATEGORIES:Atemtherapie,Stimmtherapie
ATTACH;FMTTYPE=image/png:https://michaelhelbing.de/mediathek/2024/11/1.png
END:VEVENT
END:VCALENDAR