BEGIN:VCALENDAR
VERSION:2.0
PRODID:-//Michael Helbing - ECPv6.15.20//NONSGML v1.0//EN
CALSCALE:GREGORIAN
METHOD:PUBLISH
X-ORIGINAL-URL:https://michaelhelbing.de
X-WR-CALDESC:Veranstaltungen für Michael Helbing
REFRESH-INTERVAL;VALUE=DURATION:PT1H
X-Robots-Tag:noindex
X-PUBLISHED-TTL:PT1H
BEGIN:VTIMEZONE
TZID:Europe/Berlin
BEGIN:DAYLIGHT
TZOFFSETFROM:+0100
TZOFFSETTO:+0200
TZNAME:CEST
DTSTART:20240331T010000
END:DAYLIGHT
BEGIN:STANDARD
TZOFFSETFROM:+0200
TZOFFSETTO:+0100
TZNAME:CET
DTSTART:20241027T010000
END:STANDARD
BEGIN:DAYLIGHT
TZOFFSETFROM:+0100
TZOFFSETTO:+0200
TZNAME:CEST
DTSTART:20250330T010000
END:DAYLIGHT
BEGIN:STANDARD
TZOFFSETFROM:+0200
TZOFFSETTO:+0100
TZNAME:CET
DTSTART:20251026T010000
END:STANDARD
BEGIN:DAYLIGHT
TZOFFSETFROM:+0100
TZOFFSETTO:+0200
TZNAME:CEST
DTSTART:20260329T010000
END:DAYLIGHT
BEGIN:STANDARD
TZOFFSETFROM:+0200
TZOFFSETTO:+0100
TZNAME:CET
DTSTART:20261025T010000
END:STANDARD
END:VTIMEZONE
BEGIN:VEVENT
DTSTART;TZID=Europe/Berlin:20250901T180000
DTEND;TZID=Europe/Berlin:20250901T193000
DTSTAMP:20260424T025023
CREATED:20250122T144545Z
LAST-MODIFIED:20250201T083203Z
UID:10000051-1756749600-1756755000@michaelhelbing.de
SUMMARY:Stimmlippenpolypen\, Stimmlippenzysten und Papillomatose verstehen und therapieren
DESCRIPTION:Webinar\nIn diesem Kompaktwebinar erhalten Sie fundiertes Wissen über die Behandlung von Stimmlippenpolypen\, Stimmlippenzysten und Papillomatose. Michael Helbing führt Sie durch die wesentlichen therapeutischen und medizinischen Aspekte dieser Krankheitsbilder und vermittelt praxisorientierte Ansätze\, die direkt in der Stimmtherapie anwendbar sind. \nPathophysiologie von Stimmlippenpolypen\, Stimmlippenzysten und Papillomatose \nIn diesem Abschnitt des Webinars lernen Sie die Entstehung und den Verlauf von Stimmlippenpolypen\, Stimmlippenzysten und Papillomatose im Detail kennen. Sie erfahren\, welche physiologischen Prozesse diesen Krankheitsbildern zugrunde liegen und wie sie sich auf die Stimmfunktion auswirken. Das Verständnis der Pathophysiologie ist essenziell\, um gezielte Therapieansätze zu entwickeln und anzuwenden. \nMedizinische Therapie und operative Eingriffe \nHier werden die medizinischen Behandlungsmöglichkeiten und operativen Verfahren beleuchtet\, die bei Stimmlippenpolypen\, Stimmlippenzysten und Papillomatose zum Einsatz kommen. Sie erhalten Einblicke in die verschiedenen Therapiemethoden und lernen\, welche Auswirkungen diese Eingriffe auf die Stimmfunktion haben und wie die Rehabilitation der Stimme optimal unterstützt werden kann. \nPraktische Impulse für die Stimmtherapie \nDer Fokus dieses Teils des Webinars liegt auf praktischen Übungen und Techniken zur Stimmtherapie. Sie erfahren\, wie Sie die Stimme Ihrer Patientinnen und Patienten nach operativen Eingriffen oder während einer medizinischen Behandlung unterstützen und fördern können. Die vorgestellten Übungen zielen darauf ab\, die Stimmqualität zu verbessern und die Regeneration der Stimmlippen zu fördern. \nSeminarinhalte\n\nStimmlippenpolypen\, Stimmlippenzysten und Papilomatose verstehen und therapieren\nPathophysiologie von Stimmlippenpolypen\, Stimmlippenzysten und Papilomatose\nMedizinische Therapie/ Operative Eingriffe\nPraktische Impulse für die Stimmtherapie
URL:https://michaelhelbing.de/termin/stimmlippenpolypen-stimmlippenzysten-und-papillomatose-verstehen-und-therapieren/
LOCATION:Online\, Germany
CATEGORIES:Stimmtraining,Webinar
ATTACH;FMTTYPE=image/png:https://michaelhelbing.de/mediathek/2024/11/5.png
END:VEVENT
END:VCALENDAR