BEGIN:VCALENDAR
VERSION:2.0
PRODID:-//Michael Helbing - ECPv6.15.20//NONSGML v1.0//EN
CALSCALE:GREGORIAN
METHOD:PUBLISH
X-WR-CALNAME:Michael Helbing
X-ORIGINAL-URL:https://michaelhelbing.de
X-WR-CALDESC:Veranstaltungen für Michael Helbing
REFRESH-INTERVAL;VALUE=DURATION:PT1H
X-Robots-Tag:noindex
X-PUBLISHED-TTL:PT1H
BEGIN:VTIMEZONE
TZID:Europe/Berlin
BEGIN:DAYLIGHT
TZOFFSETFROM:+0100
TZOFFSETTO:+0200
TZNAME:CEST
DTSTART:20240331T010000
END:DAYLIGHT
BEGIN:STANDARD
TZOFFSETFROM:+0200
TZOFFSETTO:+0100
TZNAME:CET
DTSTART:20241027T010000
END:STANDARD
BEGIN:DAYLIGHT
TZOFFSETFROM:+0100
TZOFFSETTO:+0200
TZNAME:CEST
DTSTART:20250330T010000
END:DAYLIGHT
BEGIN:STANDARD
TZOFFSETFROM:+0200
TZOFFSETTO:+0100
TZNAME:CET
DTSTART:20251026T010000
END:STANDARD
BEGIN:DAYLIGHT
TZOFFSETFROM:+0100
TZOFFSETTO:+0200
TZNAME:CEST
DTSTART:20260329T010000
END:DAYLIGHT
BEGIN:STANDARD
TZOFFSETFROM:+0200
TZOFFSETTO:+0100
TZNAME:CET
DTSTART:20261025T010000
END:STANDARD
END:VTIMEZONE
BEGIN:VEVENT
DTSTART;VALUE=DATE:20250904
DTEND;VALUE=DATE:20250906
DTSTAMP:20260424T022858
CREATED:20250122T120656Z
LAST-MODIFIED:20250201T083238Z
UID:10000023-1756944000-1757116799@michaelhelbing.de
SUMMARY:ILO / VCD induzierbare laryngeale Obstruktionen
DESCRIPTION:Webinar\nTherapie\, Behandlung\, Rehabilitation\nKaum ein anderes pulmonär-phoniatrisches Störungsbild wird so heftig diskutiert wie die induzierbare laryngeale Obstruktion (früher VCD). Was passiert: Der Atem stockt\, die Angst steigt und kein Ton ist mehr herauszubringen. Betroffene stehen unter einem immensen Leidensdruck und werden oft fehldiagnostiziert bis sie schließlich die Diagnose ILO erhalten. Die Angst zu ersticken oder einen erneuten ILO-Anfall zu bekommen ist groß. \nInnerhalb der Stimmtherapie gilt es den PatientInnen die Angst zu nehmen und das Gefühl der Machtlosigkeit gegenüber dem Störungsbild aufzuheben. Auch die Emotionalität muss stimmtherapeutisch aufgegriffen und behandelt werden\, um eine optimale und individuelle Stimmentwicklung zu ermöglichen. Die Verbindung aus ganzheitlicher Atem- und Stimmtherapie mit prozessorientierter Verhaltenstherapie zeigt sich in der therapeutischen Praxis als wirkungsvolles Mittel\, diesem Störungsbild zu begegnen. \nSie lernen die Diagnose ILO kennen\, verstehen und therapieren. Dies beinhaltet auch\, dass Sie die ILO gegenüber anderen Störungsbildern (z.B. Asthma oder spasmodische Dysphonie) abgrenzen können und wissen\, wie Sie die Emotionalität Ihrer PatientInnen als unerlässliche Ressource in Ihrer Therapie nutzen.
URL:https://michaelhelbing.de/termin/ilo-vcd-induzierbare-laryngeale-obstruktionen/
LOCATION:Online\, Germany
CATEGORIES:Atemtherapie,Stimmtherapie,Webinar
ATTACH;FMTTYPE=image/png:https://michaelhelbing.de/mediathek/2024/11/5.png
END:VEVENT
END:VCALENDAR