BEGIN:VCALENDAR
VERSION:2.0
PRODID:-//Michael Helbing - ECPv6.15.20//NONSGML v1.0//EN
CALSCALE:GREGORIAN
METHOD:PUBLISH
X-WR-CALNAME:Michael Helbing
X-ORIGINAL-URL:https://michaelhelbing.de
X-WR-CALDESC:Veranstaltungen für Michael Helbing
REFRESH-INTERVAL;VALUE=DURATION:PT1H
X-Robots-Tag:noindex
X-PUBLISHED-TTL:PT1H
BEGIN:VTIMEZONE
TZID:Europe/Berlin
BEGIN:DAYLIGHT
TZOFFSETFROM:+0100
TZOFFSETTO:+0200
TZNAME:CEST
DTSTART:20240331T010000
END:DAYLIGHT
BEGIN:STANDARD
TZOFFSETFROM:+0200
TZOFFSETTO:+0100
TZNAME:CET
DTSTART:20241027T010000
END:STANDARD
BEGIN:DAYLIGHT
TZOFFSETFROM:+0100
TZOFFSETTO:+0200
TZNAME:CEST
DTSTART:20250330T010000
END:DAYLIGHT
BEGIN:STANDARD
TZOFFSETFROM:+0200
TZOFFSETTO:+0100
TZNAME:CET
DTSTART:20251026T010000
END:STANDARD
BEGIN:DAYLIGHT
TZOFFSETFROM:+0100
TZOFFSETTO:+0200
TZNAME:CEST
DTSTART:20260329T010000
END:DAYLIGHT
BEGIN:STANDARD
TZOFFSETFROM:+0200
TZOFFSETTO:+0100
TZNAME:CET
DTSTART:20261025T010000
END:STANDARD
END:VTIMEZONE
BEGIN:VEVENT
DTSTART;VALUE=DATE:20250906
DTEND;VALUE=DATE:20250908
DTSTAMP:20260424T014926
CREATED:20250122T103911Z
LAST-MODIFIED:20250124T103244Z
UID:10000017-1757116800-1757289599@michaelhelbing.de
SUMMARY:Atemtherapie nach Schlaffhorst-Andersen
DESCRIPTION:Nutzen Sie dieses ganzheitlich – ganzkörperlich ausgerichtete Konzept für Ihre therapeutische Arbeit. Diese Methode ist heute ein fester Bestandteil der Therapie von Atem-\, Sprech-\,\nSprach-\, Hör-\, Schluck- und natürlich Stimmerkrankungen. \nBasierend auf den aktuellsten Erkenntnissen der Pädagogik\, Psychologie und Anatomie – Physiologie bietet Ihnen das Konzept ideale Vorrausetzungen für effizientes therapeutisches Arbeiten. \nErarbeitet wird das Grundwissen des Konzeptes\, um es gezielt in den zahlreichen praktischen Einheiten anzuwenden. Anzuwenden in der Gruppe\, an Ihnen selbst und in der Einzeltherapie. \nLernen Sie zudem Handgriffe\, Übungen und Methoden der Arbeit an der Atmung nach dem Konzept Schlaffhorst – Andersen kennen.\nProfitieren Sie von einer ganzheitlich ausgerichteten Arbeitsweise in Ihrer Arbeit mit Patienten. \nThemen des Kurses:\n\nTherapie von Atemwegserkrankungen\nVerbesserung und Regeneration der Atmung durch die Wechselwirkungen von Aufrichtung\, Atmung\, Bewegung\, Artikulation und Stimme für Patient und Therapeut\nEinatemfordernde Übungen und Sekretmobilisation mit dem Einsatz der Stimme intensivieren\, um obstruktiven und restriktiven Erkrankungen neu zu begegnen\nÜbertragen des Rhythmus der Atmung auf alle Bewegungsformen\, Tages- und Zeitstrukturen für eine tiefere Wirkung im gesamten Körper und für eine Entlastung und Unterstützung von Patienten mit Schmerzempfinden\, Konzentrationsschwierigkeiten und Koordinationsproblemen\nAnregen von fördernden Prozessen für einen ökonomisch-physiologisch orientierten körperlichen und stimmlichen Krafteinsatz in Alltag und Therapie\nAktivierung einer costoabdominalen Atemform über die Arbeit an der mimischen und artikulatorischen Muskulatur unter Berücksichtigung des trachealen Zuges\nÜbertragbarkeit des Konzeptes auf alle schon bekannten Übungen und Methoden der Atemtherapie\nOptimieren der Wirkung von Bewegungs- und Kraftübungen in der Therapie\nÜbungsabläufe für Patienten mit kognitiven und neurologischen Defiziten fachübergreifend behandeln\nEinsatz von tiefgreifenden Atemtechniken im Bereich der Psychosomatik\nAtemtherapie ganzheitlicher anleiten und neue Bewegungsabläufe und Übungen anwenden\n\nDas Seminar findet als Präsenzseminar statt und wird parallel als Live Online-Seminar übertragen (Hybrid-Seminar).
URL:https://michaelhelbing.de/termin/atemtherapie-nach-schlaffhorst-andersen-2/
LOCATION:MFZ Ludwigsburg GmbH & Co. KG\, Martin-Luther-Straße 69\, Ludwigsburg\, Baden Würtemberg\, 71636\, Germany
CATEGORIES:Atemtherapie
ATTACH;FMTTYPE=image/png:https://michaelhelbing.de/mediathek/2024/11/1.png
END:VEVENT
END:VCALENDAR