BEGIN:VCALENDAR
VERSION:2.0
PRODID:-//Michael Helbing - ECPv6.15.20//NONSGML v1.0//EN
CALSCALE:GREGORIAN
METHOD:PUBLISH
X-ORIGINAL-URL:https://michaelhelbing.de
X-WR-CALDESC:Veranstaltungen für Michael Helbing
REFRESH-INTERVAL;VALUE=DURATION:PT1H
X-Robots-Tag:noindex
X-PUBLISHED-TTL:PT1H
BEGIN:VTIMEZONE
TZID:Europe/Berlin
BEGIN:DAYLIGHT
TZOFFSETFROM:+0100
TZOFFSETTO:+0200
TZNAME:CEST
DTSTART:20240331T010000
END:DAYLIGHT
BEGIN:STANDARD
TZOFFSETFROM:+0200
TZOFFSETTO:+0100
TZNAME:CET
DTSTART:20241027T010000
END:STANDARD
BEGIN:DAYLIGHT
TZOFFSETFROM:+0100
TZOFFSETTO:+0200
TZNAME:CEST
DTSTART:20250330T010000
END:DAYLIGHT
BEGIN:STANDARD
TZOFFSETFROM:+0200
TZOFFSETTO:+0100
TZNAME:CET
DTSTART:20251026T010000
END:STANDARD
BEGIN:DAYLIGHT
TZOFFSETFROM:+0100
TZOFFSETTO:+0200
TZNAME:CEST
DTSTART:20260329T010000
END:DAYLIGHT
BEGIN:STANDARD
TZOFFSETFROM:+0200
TZOFFSETTO:+0100
TZNAME:CET
DTSTART:20261025T010000
END:STANDARD
END:VTIMEZONE
BEGIN:VEVENT
DTSTART;TZID=Europe/Berlin:20250908T090000
DTEND;TZID=Europe/Berlin:20250908T170000
DTSTAMP:20260424T001850
CREATED:20250122T104050Z
LAST-MODIFIED:20250124T103203Z
UID:10000018-1757322000-1757350800@michaelhelbing.de
SUMMARY:Parkinson-Therapeut
DESCRIPTION:Große Bewegung\, laute Stimme\nGroße Bewegung:\nDurch gezielte große\, ausschweifende Bewegungen arbeiten Sie der Bradykinese entgegen. Durch eine strukturierte und motivierende Strategie erhalten Sie eine Verbesserung von Geschwindigkeit und Bewegungsausmaß der durchgeführten Bewegungen Ihrer Patient:innen. \nLaute Stimme:\nLernen Sie gezielt eine laute Sprechstimme zu erarbeiten\, Schluckstörungen ganzheitlich zu begegnen und die Beweglichkeit und Kraft Ihrer Patient:innen zu unterstützen.
URL:https://michaelhelbing.de/termin/parkinson-therapeut/
LOCATION:MFZ Ludwigsburg GmbH & Co. KG\, Martin-Luther-Straße 69\, Ludwigsburg\, Baden Würtemberg\, 71636\, Germany
CATEGORIES:Stimmtherapie
ATTACH;FMTTYPE=image/png:https://michaelhelbing.de/mediathek/2024/11/5.png
END:VEVENT
END:VCALENDAR