BEGIN:VCALENDAR
VERSION:2.0
PRODID:-//Michael Helbing - ECPv6.15.20//NONSGML v1.0//EN
CALSCALE:GREGORIAN
METHOD:PUBLISH
X-ORIGINAL-URL:https://michaelhelbing.de
X-WR-CALDESC:Veranstaltungen für Michael Helbing
REFRESH-INTERVAL;VALUE=DURATION:PT1H
X-Robots-Tag:noindex
X-PUBLISHED-TTL:PT1H
BEGIN:VTIMEZONE
TZID:Europe/Berlin
BEGIN:DAYLIGHT
TZOFFSETFROM:+0100
TZOFFSETTO:+0200
TZNAME:CEST
DTSTART:20240331T010000
END:DAYLIGHT
BEGIN:STANDARD
TZOFFSETFROM:+0200
TZOFFSETTO:+0100
TZNAME:CET
DTSTART:20241027T010000
END:STANDARD
BEGIN:DAYLIGHT
TZOFFSETFROM:+0100
TZOFFSETTO:+0200
TZNAME:CEST
DTSTART:20250330T010000
END:DAYLIGHT
BEGIN:STANDARD
TZOFFSETFROM:+0200
TZOFFSETTO:+0100
TZNAME:CET
DTSTART:20251026T010000
END:STANDARD
BEGIN:DAYLIGHT
TZOFFSETFROM:+0100
TZOFFSETTO:+0200
TZNAME:CEST
DTSTART:20260329T010000
END:DAYLIGHT
BEGIN:STANDARD
TZOFFSETFROM:+0200
TZOFFSETTO:+0100
TZNAME:CET
DTSTART:20261025T010000
END:STANDARD
END:VTIMEZONE
BEGIN:VEVENT
DTSTART;TZID=Europe/Berlin:20250912T090000
DTEND;TZID=Europe/Berlin:20250912T173000
DTSTAMP:20260424T001858
CREATED:20250122T121534Z
LAST-MODIFIED:20250124T103112Z
UID:10000026-1757667600-1757698200@michaelhelbing.de
SUMMARY:Atem und Stimmtherapie bei neurologischen Erkrankungen
DESCRIPTION:Effektive Behandlungskonzepte für Morbus Parkinson\, Multiple Sklerose und andere Erkrankungen\nMenschen mit neurologischen Erkrankungen wie Morbus Parkinson oder Multiple Sklerose sind oft von Sprech- und Stimmstörungen betroffen. Diese beeinträchtigen ihre Kommunikationsfähigkeit erheblich. Die Schwierigkeiten reichen von einem Verlust der Stimmkraft bis hin zu Einschränkungen in der Artikulation. Auch motorische Probleme wie mangelnder Mundschluss oder Schluckstörungen begleiten häufig den Alltag der Patient*innen. \nDiese Fortbildung vermittelt praxisnahe Ansätze zur Atem- und Stimmtherapie bei neurologischen Erkrankungen. Im Fokus stehen gezielte Behandlungsmethoden für Morbus Parkinson und Multiple Sklerose. Teilnehmende lernen\, wie sie Stimmkraft und Sprechlautstärke verbessern und gleichzeitig die Beweglichkeit und motorische Kontrolle unterstützen können. Zudem wird die Arbeit auf spezifische Symptome wie Fatigue und der vorhandenen Begleitsymptome abgestimmt. \nEin besonderer Schwerpunkt liegt auf der Verknüpfung von Bewegungs- und Atemtherapie sowie der ganzheitlichen Betrachtung von Atem- und Stimmproblemen. So erhalten die Teilnehmenden umfassendes Wissen und praktische Werkzeuge\, um neurologisch bedingte Stimm- und Atemprobleme effektiv zu behandeln.
URL:https://michaelhelbing.de/termin/atem-und-stimmtherapie-bei-neurologischen-erkrankungen/
LOCATION:Wissensstudio\, Günter-Vogt-Ring 29\, Frankfurt am Main\, Hessen\, 60437\, Germany
CATEGORIES:Atemtherapie,Stimmtherapie
ATTACH;FMTTYPE=image/png:https://michaelhelbing.de/mediathek/2024/11/5.png
END:VEVENT
END:VCALENDAR