BEGIN:VCALENDAR
VERSION:2.0
PRODID:-//Michael Helbing - ECPv6.15.20//NONSGML v1.0//EN
CALSCALE:GREGORIAN
METHOD:PUBLISH
X-ORIGINAL-URL:https://michaelhelbing.de
X-WR-CALDESC:Veranstaltungen für Michael Helbing
REFRESH-INTERVAL;VALUE=DURATION:PT1H
X-Robots-Tag:noindex
X-PUBLISHED-TTL:PT1H
BEGIN:VTIMEZONE
TZID:Europe/Berlin
BEGIN:DAYLIGHT
TZOFFSETFROM:+0100
TZOFFSETTO:+0200
TZNAME:CEST
DTSTART:20240331T010000
END:DAYLIGHT
BEGIN:STANDARD
TZOFFSETFROM:+0200
TZOFFSETTO:+0100
TZNAME:CET
DTSTART:20241027T010000
END:STANDARD
BEGIN:DAYLIGHT
TZOFFSETFROM:+0100
TZOFFSETTO:+0200
TZNAME:CEST
DTSTART:20250330T010000
END:DAYLIGHT
BEGIN:STANDARD
TZOFFSETFROM:+0200
TZOFFSETTO:+0100
TZNAME:CET
DTSTART:20251026T010000
END:STANDARD
BEGIN:DAYLIGHT
TZOFFSETFROM:+0100
TZOFFSETTO:+0200
TZNAME:CEST
DTSTART:20260329T010000
END:DAYLIGHT
BEGIN:STANDARD
TZOFFSETFROM:+0200
TZOFFSETTO:+0100
TZNAME:CET
DTSTART:20261025T010000
END:STANDARD
END:VTIMEZONE
BEGIN:VEVENT
DTSTART;VALUE=DATE:20250503
DTEND;VALUE=DATE:20250505
DTSTAMP:20260423T191204
CREATED:20250122T103703Z
LAST-MODIFIED:20250124T105515Z
UID:10000016-1746230400-1746403199@michaelhelbing.de
SUMMARY:Atemtherapie in der Geriatrie
DESCRIPTION:Nutzen Sie dieses ganzheitlich – ganzkörperlich ausgerichtete Konzept für Ihre therapeutische Arbeit. \nBasierend auf den aktuellen Erkenntnissen der Pädagogik\, Psychologie und Anatomie–Physiologie bietet Ihnen das Konzept ideale Voraussetzungen für effizientes therapeutisches Arbeiten. \nAuf Basis der Wechselwirkungen von Atmung\, Aufrichtung\, Bewegung\, Artikulation und Stimme ermöglichen die Methoden und Übungen eine individuelle und flexible Arbeitsweise zum gewählten Therapieziel. \nIm Modul Geriatrie erarbeiten Sie Therapiemethoden für die Einzel- und Gruppenarbeit in der Arbeit in rehabilitativen Einrichtungen\, Pflege- und Wohneinrichtungen\, Kliniken und Praxen. \nFördern Sie die Ressourcen Ihrer Patient:innen und behandeln Sie verschiedenste Bereiche ganzheitlich und effizient. Die Kursinhalte werden Sie praxisnah und praktisch erarbeiten und mit fundiertem Fachwissen verknüpfen. \nThemen des Kurses: \n\ndie Physiologie des Alterns\nFörderung einer ökonomisch-physiologischen Atem-\, Stimm-\, Schluck- und Bewegungsform\nBewegungstraining für Einzel- und Gruppentherapie\nkognitive Förderung und Therapie bei dementiellen Entwicklungen\ngrundlegende Aspekte der palliativen Begleitung\nmanuelle Techniken zur Begleitung in Therapie und Pflege\nTherapie von Presbyphagien und Presbyphonien\nEssen & Trinken als basale Stimulation\ndie ethische Auseinandersetzung der Therapie und Pflege\nder Einsatz der Sing- und Sprechstimme\nBegleitung der Angehörigen
URL:https://michaelhelbing.de/termin/atemtherapie-in-der-geriatrie-4/
LOCATION:MFZ Ludwigsburg GmbH & Co. KG\, Martin-Luther-Straße 69\, Ludwigsburg\, Baden Würtemberg\, 71636\, Germany
CATEGORIES:Atemtherapie
ATTACH;FMTTYPE=image/png:https://michaelhelbing.de/mediathek/2024/11/1.png
END:VEVENT
BEGIN:VEVENT
DTSTART;TZID=Europe/Berlin:20250505T180000
DTEND;TZID=Europe/Berlin:20250505T193000
DTSTAMP:20260423T191204
CREATED:20241215T211705Z
LAST-MODIFIED:20250124T104929Z
UID:10000003-1746468000-1746473400@michaelhelbing.de
SUMMARY:Atemtherapie Schlaffhorst – Andersen Erste Impulse
DESCRIPTION:Online-Seminar [2 FP]\nKursinhalte:\n\nTherapie von Atemwegserkrankungen\nGanzheitliche Arbeitsweise und Verknüpfung bekannter körpertherapeutischer Ansätze in der Atemtherapie\nNeue atemtherapeutische Bewegungsformen für eine verbesserte Lungenventilation\nManuelle Techniken für Teilbereiche wie u.a. Sekretretention\, Thoraxmobilisation\, Rhythmisierung der Atembewegung und einer costoabdominalen Atemform\nFörderung einer ökonomisch-physiologischen Atem-\, Stimm- und Bewegungsform\nEinsatz der Atemtherapie bei fachübergreifenden Inhalten: u.a. Psychosomatik\, kognitive Störungen\, neurologische Erkrankungen und Bewegungsstörungen
URL:https://michaelhelbing.de/termin/atemtherapie-schlaffhorst-andersen-erste-impulse/
LOCATION:MFZ Hannover GMBH & CO KG\, Hildesheimer Str. 265\, Hannover\, Niedersachsen\, 30519\, Germany
CATEGORIES:Atemtherapie
ATTACH;FMTTYPE=image/png:https://michaelhelbing.de/mediathek/2024/11/1.png
END:VEVENT
BEGIN:VEVENT
DTSTART;TZID=Europe/Berlin:20250508T090000
DTEND;TZID=Europe/Berlin:20250508T170000
DTSTAMP:20260423T191204
CREATED:20250122T115217Z
LAST-MODIFIED:20250201T083011Z
UID:10000019-1746694800-1746723600@michaelhelbing.de
SUMMARY:Therapie der Stimmlippenlähmungen & der spasmodischen Dysphonie
DESCRIPTION:Webinar\nSOVTE\, NOVAFON\, LAX VOX ®\nBereich Stimmlippenlähmung\nDie Behandlung von Stimmlippenlähmungen wirft immer wieder Fragen auf. In diesem Kurs erhalten Sie einen dezidierten Überblick über die verschiedenen Formen der Lähmung und die dazu gehörenden Behandlungsvorschläge. Dazu erhalten Sie Impulse für eine ganzheitliche und effiziente Therapie. Umfangreiches Arbeitsmaterial für Sie und Ihre PatientInnen ergänzen die Kursinhalte. \nBereich spasmodische Dysphonie\nDas Spektrum der Erkrankung reicht von Einschränkungen der Stimm- und Sprechfunktion bis hin zu Zwerchfellstörungen und Schluckbeschwerden. Die Betroffenen sind verzweifelt ob der wenigen Anlaufstellen\, ärztlichen und therapeutischen Interventionen und Hilfsmittel. In diesem Kurs ist daher nicht nur die restitutive Therapie der Fokus\, sondern auch die adaptiven Maßnahmen (u.a. Arbeitsplatzanpassung\, Hilfsmittel) und die Selbstfürsorge im Umgang mit der bestehenden Symptomatik. Praktisch werden viele Wege erlernt\, die direkt in die Behandlung übertragen werden können. \nTheoretisch betrachten wir die Risikofaktoren beider Störungsbilder\, schauen und hören uns PatientInnenbeispiele an\, sprechen über die operativen und medikamentösen Behandlungsmöglichkeiten und diskutieren verschiedene Therapiemodelle.\nTherapeutInnen und PatientInnen fühlen sich oft ratlos im Umgang mit Stimmlippenlähmungen und spasmodischen Dysphonien – dieser Kurs möchte durch Wissen neue Wege aufzeigen.
URL:https://michaelhelbing.de/termin/therapie-der-stimmlippenlaehmungen-der-spasmodischen-dysphonie/
LOCATION:Online\, Germany
CATEGORIES:LAX VOX ®,NOVAFON,Stimmtherapie,Webinar
ATTACH;FMTTYPE=image/png:https://michaelhelbing.de/mediathek/2024/11/5.png
END:VEVENT
BEGIN:VEVENT
DTSTART;TZID=Europe/Berlin:20250510T080000
DTEND;TZID=Europe/Berlin:20250511T170000
DTSTAMP:20260423T191204
CREATED:20250122T102135Z
LAST-MODIFIED:20250124T104615Z
UID:10000010-1746864000-1746982800@michaelhelbing.de
SUMMARY:Atemtherapie
DESCRIPTION:Weiterbildung Ganzheitliche Atemtherapie\nDieser Kurs ist als Online-oder Präsenzvariante buchbar \nIn dieser Weiterbildung zur ganzheitlichen Atemtherapie nach Schlaffhorst-Andersen erhalten die Teilnehmer eine umfassende Einführung in fortgeschrittene Atemtechniken und deren praktische Anwendung. Das Seminar bietet einen strukturierten Lernprozess\, bei dem theoretisches Wissen und praktische Fertigkeiten nahtlos zusammengeführt werden. Durch die Kombination verschiedener Unterrichtsformate wird Flexibilität gewährleistet\, ohne dass dabei die Qualität der persönlichen Betreuung leidet. \nDer Kurs stützt sich auf aktuelle wissenschaftliche Erkenntnisse und integriert unterschiedlichste Ansätze der Gesundheitsförderung. Dabei werden fundierte Kenntnisse über manuelle Atemtechniken vermittelt\, die direkt im beruflichen Umfeld angewendet werden können. Die Teilnehmer erfahren\, wie sie Atemwegserkrankungen auf eine ganzheitliche und körperorientierte Weise behandeln können. Sie lernen dabei nicht nur grundlegende Techniken\, sondern auch spezielle Methoden zur Lungenventilation und Mobilisation kennen. \nBesonderes Augenmerk liegt auf der praktischen Umsetzung der erlernten Methoden. Die Teilnehmer üben spezifische Bewegungsformen und manuelle Techniken zur Unterstützung der Atmung und zur Mobilisierung des Thorax. Auf diese Weise werden sie in die Lage versetzt\, individuelle Atemprobleme bei Patienten zielgerichtet anzugehen. Zusätzlich fördert der Kurs eine ökonomische Atem-\, Stimm- und Bewegungsweise\, was besonders bei der Arbeit mit Menschen mit psychischen\, kognitiven oder neurologischen Beeinträchtigungen von Bedeutung ist. \nEin weiterer Schwerpunkt liegt in der praktischen Anwendung von Hilfsmitteln. Die Teilnehmer setzen PEP-Geräte und andere apparative Mittel ein\, um die Atemarbeit zu unterstützen. Sie erlernen Techniken der gezielten Sekretmobilisation sowie verschiedene Inhalationsmethoden – sei es trocken\, feucht oder vernebelt – zur umfassenden Unterstützung der Atemwege. \nDie interdisziplinäre Herangehensweise dieses Kurses ermöglicht es den Teilnehmern\, ihr Wissen zu vertiefen und die erlernten Methoden flexibel in den beruflichen Alltag zu integrieren. Durch die Verbindung von theoretischem Input und praktischen Übungen sind sie optimal auf die Herausforderungen in der Atemtherapie vorbereitet. Die praxisnahe Vermittlung und der ganzheitliche Ansatz stellen sicher\, dass sie ihre Kompetenzen nachhaltig erweitern können. \nKursinhalte:\n\nBehandlung von Atemwegserkrankungen auf ganzheitliche\, körperorientierte Weise\nVerknüpfung körpertherapeutischer Ansätze zur Förderung der Lungenventilation und zur Sekretmobilisation\nEinführung spezifischer Bewegungsformen und manueller Techniken zur Unterstützung der Atmung und zur Mobilisation des Thorax\nFörderung einer ökonomischen Atem-\, Stimm- und Bewegungsweise\nEinsatz der Atemtherapie bei Erkrankungen mit psychosomatischen\, kognitiven und neurologischen Hintergründen sowie bei Bewegungsstörungen\nPraktische Anwendung und Einsatz von PEP-Geräten und weiteren apparativen Hilfsmitteln zur Unterstützung der Atemarbeit\nGezielte Sekretmobilisation und Inhalationstechniken (trocken\, feucht\, vernebelt) zur Unterstützung der Atemwege\n\nDurch diesen Kurs können die Teilnehmer ihr Fachwissen ausbauen und die neu erlernten Techniken sicher in die Praxis umsetzen. Die sorgfältig abgestimmten Inhalte fördern eine nachhaltige Weiterbildung und tragen zur Verbesserung der therapeutischen Ergebnisse bei. \nBitte beachten: Dieser Kurs findet hybrid statt\, das heißt\, er wird sowohl Online als auch in Präsenz angeboten.
URL:https://michaelhelbing.de/termin/atemtherapie/
LOCATION:MFZ Hannover GMBH & CO KG\, Hildesheimer Str. 265\, Hannover\, Niedersachsen\, 30519\, Germany
CATEGORIES:Atemtherapie
ATTACH;FMTTYPE=image/png:https://michaelhelbing.de/mediathek/2024/11/1.png
END:VEVENT
BEGIN:VEVENT
DTSTART;TZID=Europe/Berlin:20250512T090000
DTEND;TZID=Europe/Berlin:20250512T170000
DTSTAMP:20260423T191204
CREATED:20250122T101509Z
LAST-MODIFIED:20250124T104530Z
UID:10000007-1747040400-1747069200@michaelhelbing.de
SUMMARY:Ethik in der Therapie
DESCRIPTION:Hybridkurs: Online-Variante [9 FP]\nEthik in der Heilmitteltherapie: Verantwortung und Reflexion \nDieser Kurs bietet eine tiefgehende Auseinandersetzung mit den ethischen Fragestellungen\, die in der Heilmitteltherapie auftreten können. Wir beleuchten praxisbezogene Fragestellungen aus den Bereichen Ergotherapie\, Physiotherapie und Logopädie und bieten den Teilnehmern umfassende Einblicke in die ethischen Überlegungen\, die für die professionelle Praxis von entscheidender Bedeutung sind. \nIm Zentrum des Kurses steht die Reflexion über die ethischen Grundsätze\, die die tägliche Arbeit in der Heilmitteltherapie leiten. Wir betrachten\, wie die Würde und Rechte der Patienten gewahrt werden können\, wie gesetzliche und professionelle Standards eingehalten werden und welche Verantwortung für eine fundierte Urteilsfindung und hochwertige Leistungen übernommen werden muss. Die ethischen Prinzipien von Autonomie\, Nichtschaden\, Fürsorge und sozialer Gerechtigkeit bilden die Grundlage für die Entscheidungsfindung in der therapeutischen Praxis. \nBesondere Aufmerksamkeit wird auf die Anwendung dieser ethischen Prinzipien in konkreten Fallbeispielen gelegt. Die Teilnehmer lernen\, wie sie ethische Dilemmata erkennen und reflektieren können\, um in ihrer Praxis ethisch fundierte Entscheidungen zu treffen. Dabei werden auch aktuelle Herausforderungen und neue ethische Fragestellungen\, die durch Entwicklungen wie die COVID-19-Pandemie entstanden sind\, thematisiert.
URL:https://michaelhelbing.de/termin/ethik-in-der-therapie/
LOCATION:MFZ Hannover GMBH & CO KG\, Hildesheimer Str. 265\, Hannover\, Niedersachsen\, 30519\, Germany
CATEGORIES:Ethik,palliative Arbeit
ATTACH;FMTTYPE=image/png:https://michaelhelbing.de/mediathek/2024/11/6.png
END:VEVENT
BEGIN:VEVENT
DTSTART;VALUE=DATE:20250513
DTEND;VALUE=DATE:20250515
DTSTAMP:20260423T191204
CREATED:20250122T115808Z
LAST-MODIFIED:20250124T104442Z
UID:10000020-1747094400-1747267199@michaelhelbing.de
SUMMARY:Die begleitende Hand für die Palliativmedizin
DESCRIPTION:Unterstützende Techniken für die Palliativmedizin in der pflegerischen und therapeutischen Arbeit\nMit der Atmung der PatientInnen arbeiten\, Qualitäten unterstützen\, individuell-körperlich begleiten. Mit den Methoden des Kurses erlangen Sie manuelle Fertigkeiten\, die Sie in jeder Situation einsetzen können\, um Ihre palliative Pflege oder Therapie zu optimieren. \nIm Kurs werden grundlegende Aspekte der palliativen\, betreuenden Arbeit vermittelt. Methoden nach den Konzepten Schlaffhorst-Andersen\, V. Glaser\, I. Middendorf und der Klangtherapie werden erarbeitet und praktisch in vielschichtigen Übungssequenzen gefestigt. \nWeiterhin beschäftigt sich der Kurs mit der Atemmassage nach Schlaffhorst-Andersen\, W. Seyd und der klassischen Atemtherapie und arbeitet dabei überwiegend praktisch in Einzel-\, Partner- und Gruppenarbeit. Alle Anteile der Atemmassage werden erlernt\, um diese in der pflegerischen oder therapeutischen Arbeit einsetzen zu können.
URL:https://michaelhelbing.de/termin/die-begleitende-hand-fuer-die-palliativmedizin/
LOCATION:DIAKOVERE gGmbH Akademie\, Anna-von-Borries-Straße 1-7\, Hannover\, Niedersachsen\, 30625\, Germany
CATEGORIES:Atemtherapie,Ethik,palliative Arbeit
ATTACH;FMTTYPE=image/png:https://michaelhelbing.de/mediathek/2024/11/10.png
END:VEVENT
BEGIN:VEVENT
DTSTART;VALUE=DATE:20250516
DTEND;VALUE=DATE:20250518
DTSTAMP:20260423T191204
CREATED:20250122T143506Z
LAST-MODIFIED:20250124T104357Z
UID:10000050-1747353600-1747526399@michaelhelbing.de
SUMMARY:Große Stimme - Große Bewegung - Stimmtherapie von M. Parkinson
DESCRIPTION:Patient:innen mit Parkinson sind es gewohnt\, dass nach einiger Zeit die Stimmkraft nachlässt und Verwandte und Freunde nachfragen\, was sie geäußert haben. Sie vermeiden oft zu telefonieren oder sich in eine Gesellschaft zu begeben aus Angst nicht verstanden oder „gehört“ zu werden. Störungen der Konzentration\, des Mundschlusses\, des Schluckens und der Motorik prägen den Alltag der Betroffenen. \nIn diesem Kurs wird praktisch an therapeutischen Mitteln gearbeitet\, die Bereiche Sprechen\, Schlucken und Bewegung von Patient:innen mit dem Parkinson Syndrom effektiv und effizient zu behandeln. \nLernen Sie gezielt eine laute Sprechstimme zu erarbeiten\, Schluckstörungen ganzheitlich zu begegnen und die Beweglichkeit und Kraft Ihrer Patient:innen zu unterstützen. \nFür den praktischen Teil des Seminars wird ein LAX VOX®-Schlauch plus Flasche benötigt. Teilnehmer:innen können dies aus dem eigenen Bestand mitbringen oder zum Preis von 5\,00 € beim Referenten vor Ort erwerben (nur im Rahmen der Präsenzveranstaltung möglich).
URL:https://michaelhelbing.de/termin/grosse-stimme-grosse-bewegung-stimmtherapie-von-m-parkinson/
LOCATION:dgs-doppelpunkt\, Poststraße 61\, Ibbenbüren\, 49477
CATEGORIES:Stimmtherapie
ATTACH;FMTTYPE=image/png:https://michaelhelbing.de/mediathek/2024/11/5.png
END:VEVENT
BEGIN:VEVENT
DTSTART;TZID=Europe/Berlin:20250519T100000
DTEND;TZID=Europe/Berlin:20250519T130000
DTSTAMP:20260423T191204
CREATED:20250409T195519Z
LAST-MODIFIED:20250409T195706Z
UID:10000073-1747648800-1747659600@michaelhelbing.de
SUMMARY:Asthma bronchiale verstehen – Grundlagen\, Therapie und logopädische Relevanz
DESCRIPTION:Limitiert auf 10 Plätze\n \nAsthma bronchiale ist eine der häufigsten chronischen Atemwegserkrankungen – bei Kindern ebenso wie bei Erwachsenen. Häufig wird es unterschätzt oder nur symptomatisch behandelt\, dabei ist ein gutes Verständnis der Erkrankung essenziell für eine wirkungsvolle Begleitung im therapeutischen Alltag. \nIn diesem Webinar erhältst du fundiertes Wissen rund um das Thema Asthma bronchiale – klar strukturiert\, praxisnah und interdisziplinär gedacht. Neben medizinischen Grundlagen geht es vor allem darum\, wie du als Fachperson sicherer im Umgang mit betroffenen Patient*innen wirst. \nInhalte: \n\n\nGrundlagen zu Asthma bronchiale: Symptome\, Ursachen\, Pathophysiologie \n\n\nUnterschied zwischen allergischem und nicht-allergischem Asthma \n\n\nAnfallsauslösende Faktoren und typische Verläufe \n\n\nBedeutung für die logopädische\, stimm- und atemtherapeutische Arbeit \n\n\nUmgang mit Atemnot\, Angst und chronischer Belastung \n\n\nAtemregulation und -training bei instabiler Bronchiallage \n\n\nEinsatz von PEP\, Lippenbremse und weiteren atemtherapeutischen Methoden \n\n\nInhalation – korrektes Handling und unterstützende Beratung \n\n\nMöglichkeiten der interdisziplinären Zusammenarbeit \n\n\nWenn du dich für das Angebot entscheidest\, erhältst du: \n\nEin interaktives Livewebinar\, das dir aktuelles Fachwissen vermittelt\nPraktische Anwendungsbeispiele und Tipps\, basierend auf den neuesten Erkenntnissen\nSpannende wissenschaftliche Einblicke\, die dir helfen\, dein Wissen zu vertiefen\nDie Möglichkeit\, deine Fragen direkt im Webinar zu stellen und individuell beantwortet zu bekommen\n\nAlles ist darauf ausgelegt\, dir einen maximalen Mehrwert zu bieten!
URL:https://michaelhelbing.de/termin/webinar-asthma-bronchiale-verstehen-grundlagen-therapie-und-logopaedische-relevanz/
LOCATION:Online\, Germany
CATEGORIES:Atemtherapie,Webinar
ATTACH;FMTTYPE=image/png:https://michaelhelbing.de/mediathek/2024/11/1.png
ORGANIZER;CN="Michael Helbing":MAILTO:info@stimmkontor.com
END:VEVENT
BEGIN:VEVENT
DTSTART;TZID=Europe/Berlin:20250519T150000
DTEND;TZID=Europe/Berlin:20250519T170000
DTSTAMP:20260423T191204
CREATED:20250409T193156Z
LAST-MODIFIED:20250409T195750Z
UID:10000072-1747666800-1747674000@michaelhelbing.de
SUMMARY:COPD verstehen – logopädisch begleiten\, wirksam behandeln
DESCRIPTION:Unterrichtseinheiten 2\,5 UE\nFortbildungspunkte 1\,5 FP \nLogopädische Ansätze bei COPD\, Lungenemphysem und weiteren Atemwegserkrankungen \nLimitiert auf 10 Plätze \nWenn er nicht mehr frei fließen kann\, wird jede Bewegung\, jedes Wort\, jede Mahlzeit zur Anstrengung. Bei chronisch obstruktiver Lungenerkrankung (COPD) oder einem Lungenemphysem erleben viele Patient*innen täglich Atemnot\, Erschöpfung und den Verlust von Lebensqualität. Als Logopäd*in kannst du gezielt unterstützen – mit einem tiefgreifenden Verständnis der Erkrankung und konkreten therapeutischen Strategien. \nIn diesem Webinar erhältst du einen fundierten Überblick über die physiologischen und pathologischen Grundlagen von COPD und Lungenemphysem – und erfährst\, was du logopädisch konkret tun kannst. \nDer Fokus liegt auf der Verbindung von medizinischem Wissen und therapeutischer Praxis. \nInhalte: \n\nWas ist COPD? Einblick in Ursachen\, Symptome\, Verläufe und Begleiterscheinungen\nLungenemphysem: Abgrenzung und Gemeinsamkeiten\nLogopädische Therapie bei Atemwegserkrankungen: Was ist möglich? Was ist sinnvoll?\nEinsatz von PEP-Geräten und SOVTE bei Dysphonie\, Dysarthrie und Dysphagie\nManuelle Techniken zur Sekretmobilisation und Thoraxerweiterung\nCOPD und Kognition: Was müssen wir in der Therapie beachten?\n\nWenn du dich für das Angebot entscheidest\, erhältst du: \n\nEin interaktives Livewebinar\, das dir aktuelles Fachwissen vermittelt\nPraktische Anwendungsbeispiele und Tipps\, basierend auf den neuesten Erkenntnissen\nSpannende wissenschaftliche Einblicke\, die dir helfen\, dein Wissen zu vertiefen\nDie Möglichkeit\, deine Fragen direkt im Webinar zu stellen und individuell beantwortet zu bekommen\nAlles ist darauf ausgelegt\, dir einen maximalen Mehrwert zu bieten!
URL:https://michaelhelbing.de/termin/webinar-copd-verstehen-logopaedisch-begleiten-wirksam-behandeln/
LOCATION:Online\, Germany
CATEGORIES:Atemtherapie,Webinar
ATTACH;FMTTYPE=image/png:https://michaelhelbing.de/mediathek/2024/11/1.png
ORGANIZER;CN="Michael Helbing":MAILTO:info@stimmkontor.com
END:VEVENT
BEGIN:VEVENT
DTSTART;TZID=Europe/Berlin:20250519T180000
DTEND;TZID=Europe/Berlin:20250519T200000
DTSTAMP:20260423T191204
CREATED:20250409T200603Z
LAST-MODIFIED:20250409T200603Z
UID:10000074-1747677600-1747684800@michaelhelbing.de
SUMMARY:Lungenfibrose & restriktive Lungenerkrankungen – Verstehen\, begleiten\, therapieren
DESCRIPTION:Limitiert auf 10 Plätze\n \nRestriktive Lungenerkrankungen wie die Lungenfibrose zählen zu den selteneren\, aber besonders belastenden Atemwegserkrankungen. Die Einschränkung der Dehnungsfähigkeit der Lunge führt zu chronischer Atemnot\, reduzierter Belastbarkeit und oft auch zu psychosozialer Belastung. Für Therapeut*innen ist es entscheidend\, diese Krankheitsbilder zu erkennen und professionell darauf zu reagieren. \nIn diesem Webinar lernst du die Grundlagen und Unterschiede der restriktiven Lungenerkrankungen kennen – mit einem besonderen Fokus auf die idiopathische Lungenfibrose. Du erhältst Einblicke in die physiologischen Hintergründe\, Symptome\, Therapiemöglichkeiten und vor allem in die Rolle der Logopädie und Atemtherapie. \nInhalte: \n\n\nWas ist eine Lungenfibrose? Ursachen\, Symptome\, Verlauf \n\n\nRestriktive vs. obstruktive Atemwegserkrankungen – klar unterschieden \n\n\nAuswirkungen auf Stimme\, Atmung und Schlucken \n\n\nInterdisziplinäre Therapieansätze und medizinische Begleitung \n\n\nLogopädische und atemtherapeutische Möglichkeiten im Umgang mit Atemnot \n\n\nEinsatz von atemerleichternden Positionen und rhythmisierter Atemführung \n\n\nBedeutung für Palliativbegleitung und Lebensqualität \n\n\nRolle der Angehörigen und edukative Begleitung
URL:https://michaelhelbing.de/termin/lungenfibrose-restriktive-lungenerkrankungen-verstehen-begleiten-therapieren/
LOCATION:Online\, Germany
CATEGORIES:Atemtherapie,Webinar
ATTACH;FMTTYPE=image/png:https://michaelhelbing.de/mediathek/2024/11/1.png
ORGANIZER;CN="Michael Helbing":MAILTO:info@stimmkontor.com
END:VEVENT
BEGIN:VEVENT
DTSTART;TZID=Europe/Berlin:20250520T173000
DTEND;TZID=Europe/Berlin:20250520T200000
DTSTAMP:20260423T191204
CREATED:20250122T132644Z
LAST-MODIFIED:20250201T083028Z
UID:10000037-1747762200-1747771200@michaelhelbing.de
SUMMARY:Hormonelle Auswirkungen auf die Stimme
DESCRIPTION:Hormonelle Veränderungen\, insbesondere während der Mutation und Menopause\, haben einen signifikanten Einfluss auf die Stimmfunktion. Dieses Webinar richtet sich an Fachkräfte\, die ihre Kenntnisse über die hormonellen Auswirkungen auf die Stimme vertiefen möchten. Wir bieten Ihnen eine praxisorientierte Fortbildung\, die auf den neuesten wissenschaftlichen Erkenntnissen basiert und Ihnen ermöglicht\, therapeutische Ansätze im Bereich der Stimmtherapie gezielt auf hormonelle Veränderungen abzustimmen. \nSie lernen\, wie hormonelle Umstellungen die Stimmqualität beeinflussen\, und erhalten praxisnahe Strategien\, um Patientinnen während der Mutation\, bei Erkrankungen oder während der Menopause optimal zu begleiten. Berücksichtigt werden dabei sowohl physiologische als auch entwicklungspsychologische Aspekte\, um eine ganzheitliche und altersgerechte Stimmtherapie zu planen und durchzuführen.
URL:https://michaelhelbing.de/termin/hormonelle-auswirkungen-auf-die-stimme/
LOCATION:Online\, Germany
CATEGORIES:Stimmtherapie,Webinar
ATTACH;FMTTYPE=image/png:https://michaelhelbing.de/mediathek/2024/11/5.png
END:VEVENT
BEGIN:VEVENT
DTSTART;VALUE=DATE:20250524
DTEND;VALUE=DATE:20250525
DTSTAMP:20260423T191204
CREATED:20250122T151244Z
LAST-MODIFIED:20250124T104319Z
UID:10000057-1748044800-1748131199@michaelhelbing.de
SUMMARY:Therapeutische Mundpflege und die diätetische Kostanpassung bei schweren Dysphagien\, dementiellen Erkrankungen und in der palliativen Arbeit
DESCRIPTION:Live in München! \nIn diesem zweitägigen Praxisseminar erlernen alle Teilnehmenden Fertigkeiten für die optimale Begleitung der Kostanpassung und Mundpflege im geriatrisch-neurologischen und palliativen Kontext. \nIm Block Mundpflege besprechen wir die wichtigen Strategien der Pneumonieprophylaxe und der Mundhygiene. Praktisch erlernen wir verschiedenste Formen der Mund- und Zahnpflege. Es werden verschiedene Massagetechniken und Reinigungsstrategien erlernt. Dabei werden auch verschiedene natürliche und medizinische Pflegemittel verwendet. \nIm Block Kostanpassung setzen wir uns theoretisch mit den verschiedenen Koststufen und deren Nutzen auseinander. Dann erarbeiten wir teilhabeorientierte Strategien zur Nahrungsaufnahme\, die besonders Menschen mit schweren Dysphagien\, dementiellen Entwicklungen oder im palliativen Bereich betreffen. Praktisch lernen wir selbst Koststufen herzustellen. Dabei erlernen alle Smoothfood\, Schaum/Spumakost\, Viskose/Gelee und Smoothies zu produzieren. Für die palliative Arbeit erlernen alle\, Geschmackserlebnisse mit nicht asperierbarem Schaum herzustellen. \nSeminarinhalte\n\nTherapeutische Mundpflege effizient anwenden\nMundtrockenheit behandeln\nPflege der Zunge\nStrategien der Kostanpassung\nSmoothfood selbst herstellen\nErnährungsbegleitung – würdevolle Teilhabe\nEat by walking
URL:https://michaelhelbing.de/termin/therapeutische-mundpflege-und-die-diaetetische-kostanpassung-bei-schweren-dysphagien-dementiellen-erkrankungen-und-in-der-palliativen-arbeit/
LOCATION:Logomania\, Fürstenrieder Straße 82b\, München\, Bayern\, 80686\, Germany
CATEGORIES:Atemtherapie,Ethik,Neurologie,NOVAFON,palliative Arbeit
ATTACH;FMTTYPE=image/png:https://michaelhelbing.de/mediathek/2024/11/8.png
END:VEVENT
END:VCALENDAR