BEGIN:VCALENDAR
VERSION:2.0
PRODID:-//Michael Helbing - ECPv6.15.20//NONSGML v1.0//EN
CALSCALE:GREGORIAN
METHOD:PUBLISH
X-ORIGINAL-URL:https://michaelhelbing.de
X-WR-CALDESC:Veranstaltungen für Michael Helbing
REFRESH-INTERVAL;VALUE=DURATION:PT1H
X-Robots-Tag:noindex
X-PUBLISHED-TTL:PT1H
BEGIN:VTIMEZONE
TZID:Europe/Berlin
BEGIN:DAYLIGHT
TZOFFSETFROM:+0100
TZOFFSETTO:+0200
TZNAME:CEST
DTSTART:20240331T010000
END:DAYLIGHT
BEGIN:STANDARD
TZOFFSETFROM:+0200
TZOFFSETTO:+0100
TZNAME:CET
DTSTART:20241027T010000
END:STANDARD
BEGIN:DAYLIGHT
TZOFFSETFROM:+0100
TZOFFSETTO:+0200
TZNAME:CEST
DTSTART:20250330T010000
END:DAYLIGHT
BEGIN:STANDARD
TZOFFSETFROM:+0200
TZOFFSETTO:+0100
TZNAME:CET
DTSTART:20251026T010000
END:STANDARD
BEGIN:DAYLIGHT
TZOFFSETFROM:+0100
TZOFFSETTO:+0200
TZNAME:CEST
DTSTART:20260329T010000
END:DAYLIGHT
BEGIN:STANDARD
TZOFFSETFROM:+0200
TZOFFSETTO:+0100
TZNAME:CET
DTSTART:20261025T010000
END:STANDARD
END:VTIMEZONE
BEGIN:VEVENT
DTSTART;TZID=Europe/Berlin:20250808T090000
DTEND;TZID=Europe/Berlin:20250808T173000
DTSTAMP:20260425T123051
CREATED:20250122T141614Z
LAST-MODIFIED:20250124T103901Z
UID:10000045-1754643600-1754674200@michaelhelbing.de
SUMMARY:Die therapeutische Versorgung von Stimmlippenlähmungen im Kontext der evidenzbasierten Praxis
DESCRIPTION:Präsenz in Köln \nIn diesem Seminar erlernen Sie die Behandlung von Stimmlippenlähmungen. Oft stehen TherapeutInnen vor der Frage\, welcher Ansatz bei Stimmlippenlähmungen die besten Ergebnisse erzielt. Wir diskutieren im Kurs Strategien und berücksichtigen dabei alle Fachbereiche: von klassischer Stimmtherapie\, über den Einsatz von Hilfsmitteln bis zur operativen Behandlung. Lernen Sie\, praktisch und effizient Ihre Stimmtherapie zu planen\, durchzuführen und auf entwicklungspsychologische wie physiologische Prozesse einzugehen. Ein besonderer Schwerpunkt: die Evidenz der stimmtherapeutischen Maßnahmen wird reflektiert. Was sind eigentlich die Fakten?
URL:https://michaelhelbing.de/termin/die-therapeutische-versorgung-von-stimmlippenlaehmungen-im-kontext-der-evidenzbasierten-praxis-2/
LOCATION:ProLog WISSEN GmbH\, Olpener Str. 59\, Köln\, Nordrhein Westfalen\, 51103\, Germany
CATEGORIES:Stimmtherapie
ATTACH;FMTTYPE=image/png:https://michaelhelbing.de/mediathek/2024/11/5.png
END:VEVENT
BEGIN:VEVENT
DTSTART;VALUE=DATE:20250809
DTEND;VALUE=DATE:20250811
DTSTAMP:20260425T123052
CREATED:20250122T141901Z
LAST-MODIFIED:20250124T103837Z
UID:10000046-1754697600-1754870399@michaelhelbing.de
SUMMARY:Die logopädische Versorgung von Atemwegserkrankungen in Köln!
DESCRIPTION:Live in Köln! \nPraktische Strategien für die Atem-\, Stimm- und Schlucktherapie\nNichts ist so essentiell wie die Luft\, die wir dringend zum Leben benötigen. Luft\, ohne die wir nicht eine Minute auskommen können. Wenn eine Atemwegserkrankung vorliegt\, leiden die PatientInnen unter Atemnot\, die Vitalkapazität sinkt\, der Alltag ist immer schwerer zu bestreiten und Komplikationen auf mehreren Ebenen drohen. \nIn diesem Kurs werden Sie sich intensiv mit den Atemwegserkrankungen und insbesondere mit der chronisch obstruktiven Lungenerkrankung (COPD)\, dem Lungenemphysem und der Lungenfibrose auseinandersetzen. Sie erhalten Wissen\, um in Ihrem therapeutischen Alltag auf PatientInnen mit diesen Erkrankungen optimal einzugehen\, sie zu untersuchen und im Hinblick auf die logopädische Arbeit zu behandeln. \nSie werden Übungen und methodische Ansätze lernen\, die Sie sicher in Ihrem Therapiealltag einfügen können. Im Kurs erhalten Sie eine genaue und praxisorientierte Anleitung und werden Sicherheit im Umgang mit PatientInnen mit Atemwegserkrankungen erlangen. \n\nTherapie von logopädischer Klientel mit Atemwegserkrankungen\ndie Behandlung der COPD\, des Lungenemphysems und der Lungenfibrose mit Hilfe des positive expiratoric pressure (PEP) und der Semi-Occluded Vocal Tract Exercises (SOVTE)\nmanuelle Techniken und Bewegungsformen für Teilbereiche wie u.a. Sekretmobilisation\, Thoraxmobilisation\nRhythmisierung der Atembewegung und einer costoabdominalen Atemform\nFörderung einer ökonomisch-physiologischen Atem-\, Stimm- und Bewegungsform\nCOPD in der Behandlung von Dysphagien\, Dysphonien und Dysarthrien\nSpannungsfeld COPD und Kognition\npräventive Ansätze (Pneumonieprophylaxe\, Lungensport & Singen im Alter)\nEinsatz der Atemtherapie bei fachübergreifenden Inhalten: u.a. Psychosomatik\, kognitive Störungen\,- neurologische Erkrankungen und Bewegungsstörungen\nBerücksichtigung von Störungsbildern wie Mukoviszidose\, Lungenhochdruck u.a.
URL:https://michaelhelbing.de/termin/die-logopaedische-versorgung-von-atemwegserkrankungen-in-koeln/
LOCATION:ProLog WISSEN GmbH\, Olpener Str. 59\, Köln\, Nordrhein Westfalen\, 51103\, Germany
CATEGORIES:Atemtherapie,Stimmtherapie
ATTACH;FMTTYPE=image/png:https://michaelhelbing.de/mediathek/2024/11/1.png
END:VEVENT
BEGIN:VEVENT
DTSTART;VALUE=DATE:20250823
DTEND;VALUE=DATE:20250825
DTSTAMP:20260425T123052
CREATED:20250122T142141Z
LAST-MODIFIED:20250201T083140Z
UID:10000047-1755907200-1756079999@michaelhelbing.de
SUMMARY:Intensivkurs Stimme kennt kein Alter: Therapie der Mutationsstimmstörungen und der Presbyphonie
DESCRIPTION:Webinar\nStrategien für eine altersgerechte Stimmtherapie\nAltersbedingte Dysphonien ganzheitlich und praxisorientiert behandeln: Wir betrachten Strategien für Mutationsstimmstörungen\, die Begleitung der Mutation aller Geschlechter und die optimale therapeutische Versorgung von Presbyphonien. Erleben Sie ein praxisnahes Seminar\, das auf aktuellen Erkenntnissen der Stimmpädagogik basiert und Sie dazu befähigt\, eine altersgerechte Stimmtherapie zu planen und durchzuführen\, unter Berücksichtigung entwicklungspsychologischer sowie physiologischer Prozesse. \nZu den Schwerpunkten dieses Seminars gehören nicht nur die Behandlung altersbedingter Dysphonien\, sondern auch die Begleitung von SängerInnen sowie die Erhaltung stimmlicher Belastbarkeit. Sie erwartet ein lebendiges Seminar mit kreativen Impulsen\, vielfältigem Material und Verknüpfungen zu anderen Therapiebereichen. Neben fundierter Theorie erwarten Sie die praktischen Anwendungen sowohl in Einzel- als auch in Gruppensituationen.
URL:https://michaelhelbing.de/termin/intensivkurs-stimme-kennt-kein-alter-therapie-der-mutationsstimmstoerungen-und-der-presbyphonie/
LOCATION:Online\, Germany
CATEGORIES:Stimmtherapie,Webinar
ATTACH;FMTTYPE=image/png:https://michaelhelbing.de/mediathek/2024/11/5.png
END:VEVENT
BEGIN:VEVENT
DTSTART;VALUE=DATE:20250826
DTEND;VALUE=DATE:20250828
DTSTAMP:20260425T123052
CREATED:20250122T120505Z
LAST-MODIFIED:20250124T103615Z
UID:10000022-1756166400-1756339199@michaelhelbing.de
SUMMARY:Sprache im Wandel: Kognitive Störungen verstehen und kommunikativ meistern
DESCRIPTION:Therapeutische Maßnahmen unter Berücksichtigung kognitiver Beeinträchtigungen (Modul Zercur Geriatrie Therapie)\nKognitive Störungen und ihre Auswirkungen auf die Sprache \nIn diesem Kurs widmen wir uns der Arbeit mit kognitiven Störungen und deren Einfluss auf die sprachliche Kommunikation. Wir behandeln verschiedene Formen kognitiver Beeinträchtigungen\, einschließlich demenzieller Entwicklungen\, und erlernen die Implementierung präziser diagnostischer Verfahren. \nUnser Fokus liegt auf der Differenzierung zwischen Sprachstörungen\, die durch kognitive Störungen verursacht werden\, und klassischen aphasischen Störungen. Neben der Erkennung und Klassifikation kognitiver Dysphasien – Störungen der Sprachverarbeitung\, die durch Beeinträchtigungen in Aufmerksamkeits-\, Gedächtnis- und Exekutivfunktionen bedingt sind – werden wir auch die Relevanz der Neurodiversität in diesem Kontext untersuchen. \nIn praktischen Übungen werden wir Strategien entwickeln\, um die Kommunikation sowohl im Einzel- als auch im Gruppengespräch zu optimieren. Ziel ist es\, durch angepasste Kommunikation Türen zu öffnen und ein Umfeld zu schaffen\, das motivierende und wertschätzende Teilhabe ermöglicht. \nDie Teilnehmer*innen werden aktiv verschiedene Kommunikationsstrategien erproben und lernen\, diese effektiv im Alltag anzuwenden. Zu den behandelten Bereichen gehören Kontakt\, Kommunikation\, Berührung\, Musik\, Umfeldgestaltung und Beratung. Der Kurs zielt darauf ab\, durch fundiertes Wissen und praktische Erfahrungen eine kompetente Handhabung von kognitiven Störungen im sprachlichen Kontext zu gewährleisten.
URL:https://michaelhelbing.de/termin/sprache-im-wandel-kognitive-stoerungen-verstehen-und-kommunikativ-meistern/
LOCATION:DIAKOVERE gGmbH Akademie\, Anna-von-Borries-Straße 1-7\, Hannover\, Niedersachsen\, 30625\, Germany
CATEGORIES:Ethik,palliative Arbeit
ATTACH;FMTTYPE=image/png:https://michaelhelbing.de/mediathek/2024/11/8.png
END:VEVENT
BEGIN:VEVENT
DTSTART;TZID=Europe/Berlin:20250830T100000
DTEND;TZID=Europe/Berlin:20250830T170000
DTSTAMP:20260425T123052
CREATED:20250415T141911Z
LAST-MODIFIED:20250418T072417Z
UID:10000079-1756548000-1756573200@michaelhelbing.de
SUMMARY:Stimme in a nutshell – Dein Auftritt. Deine Wirkung
DESCRIPTION:30.08.2025\n10:00 bis 17:00 \nSchreib uns eine Buchungsanfrage und sichere Dir einen der wenigen Plätze! \nNutze einen unserer 10 exklusiven Plätze! \nKlar sprechen. Gehört werden. Ankommen. \nIn diesem kompakten 1-Tages-Workshop bekommst du alles\, was du für deinen sprecherischen Auftritt brauchst – verständlich\, wirksam und ohne Schnickschnack. Wir arbeiten fokussiert an deiner Stimme\, deinem Sprechen und deiner Präsenz. Damit du in Meetings\, Vorträgen und im Alltag klar\, souverän und überzeugend bist. \nDas erwartet dich: \nZwei Trainer*innen \nStimmtraining für mehr Klarheit & Ausdruck \nAtem- und Sprechübungen für eine starke Performance \nPräsenz- und Wirkungstraining – für deinen Auftritt\, der ankommt \nTipps gegen Unsicherheit und Lampenfieber \nIndividuelles Feedback für deinen Transfer in den Alltag \nFür wen?\nFür Frauen\, die an ihrer Stimme arbeiten\, sicher auftreten und im Gedächtnis bleiben wollen – egal ob im Job\, im Ehrenamt oder privat. \nWo?\nIm mediadeck Hamburg – in inspirierender Atmosphäre mit Blick über die Stadt. \nMit wem?\nMit Birte Heckmann\, Stimm- & Kommunikationstrainerin und Autorin\, und Michael Helbing\, Coach für Stimme\, Auftritt und Wirkung. \nFreu dich auf einen Tag\, der Wirkung zeigt.\nFreu dich auf deinen Auftritt! \nMIt wem arbeitst Du? \n \nHier mehr erfahren\nBirte Heckmann\n \nHier mehr erfahren:\nMichael Helbing
URL:https://michaelhelbing.de/termin/stimme-in-a-nutshell-dein-auftritt-deine-wirkung/
LOCATION:MEDIADECK Hamburg\, Rödingsmarkt 14\, Hamburg\, Hamburg\, 20459\, Germany
CATEGORIES:Stimmtherapie,Stimmtraining
ATTACH;FMTTYPE=image/png:https://michaelhelbing.de/mediathek/2025/04/www.stimmkontor.com-Doppelseitiges-Poster-A3-Hochformat.png
ORGANIZER;CN="Michael Helbing":MAILTO:info@stimmkontor.com
END:VEVENT
END:VCALENDAR