BEGIN:VCALENDAR
VERSION:2.0
PRODID:-//Michael Helbing - ECPv6.15.20//NONSGML v1.0//EN
CALSCALE:GREGORIAN
METHOD:PUBLISH
X-ORIGINAL-URL:https://michaelhelbing.de
X-WR-CALDESC:Veranstaltungen für Michael Helbing
REFRESH-INTERVAL;VALUE=DURATION:PT1H
X-Robots-Tag:noindex
X-PUBLISHED-TTL:PT1H
BEGIN:VTIMEZONE
TZID:Europe/Berlin
BEGIN:DAYLIGHT
TZOFFSETFROM:+0100
TZOFFSETTO:+0200
TZNAME:CEST
DTSTART:20240331T010000
END:DAYLIGHT
BEGIN:STANDARD
TZOFFSETFROM:+0200
TZOFFSETTO:+0100
TZNAME:CET
DTSTART:20241027T010000
END:STANDARD
BEGIN:DAYLIGHT
TZOFFSETFROM:+0100
TZOFFSETTO:+0200
TZNAME:CEST
DTSTART:20250330T010000
END:DAYLIGHT
BEGIN:STANDARD
TZOFFSETFROM:+0200
TZOFFSETTO:+0100
TZNAME:CET
DTSTART:20251026T010000
END:STANDARD
BEGIN:DAYLIGHT
TZOFFSETFROM:+0100
TZOFFSETTO:+0200
TZNAME:CEST
DTSTART:20260329T010000
END:DAYLIGHT
BEGIN:STANDARD
TZOFFSETFROM:+0200
TZOFFSETTO:+0100
TZNAME:CET
DTSTART:20261025T010000
END:STANDARD
END:VTIMEZONE
BEGIN:VEVENT
DTSTART;TZID=Europe/Berlin:20251010T090000
DTEND;TZID=Europe/Berlin:20251010T173000
DTSTAMP:20260423T104107
CREATED:20250122T143059Z
LAST-MODIFIED:20250124T102226Z
UID:10000049-1760086800-1760117400@michaelhelbing.de
SUMMARY:Ganzheitliche Atem- und Stimmtherapie bei postviralen Erkrankungen wie Long-/Post-COVID
DESCRIPTION:Einschränkungen der Vitalkapazität\, Dysphonie\, Nervosität\, Versagensangst\, Atemnot – dies sind nur ein paar der Folgen einer Erkrankung mit SarsCov-2. PatientInnen kämpfen zudem mit den Folgen einer stationären\, mitunter auch beatmungsunterstützten Behandlung. Die Ziele in der Therapie sind der Aufbau von mehr Leistungsfähigkeit\, die Wiederherstellung der Stimm-/Sprechfunktion und der Zugang zu mehr Teilhabe am gesellschaftlichen Leben.\nDer Fokus liegt auf der Behandlung der Atem- und Stimmfunktion. Daneben werden auch die Teilbereiche Psychosomatik\, körperliche Beweglichkeit\, Kognition und Dysphagie angesprochen. Die Verbindung aus ganzheitlicher Atem- und Stimmtherapie mit prozessorientierter Verhaltenstherapie zeigt sich in der therapeutischen Praxis als wirkungsvolles Mittel\, diesem multidimensionalen Störungsbild zu begegnen. \nInhalte des Kurses\n\nLong/Post-COVID – ein neues Störungsbild?\nStimmtherapie postintubierter PatientInnen\nStimmtherapie bei Einschränkung der Vitalkapazität\ntherapeutischer Ansatz bei Fatigue\nStimmtherapie und Dysphagietherapie – zwei Bereiche\, ein Ansatz\nganzheitliche Arbeitsweise und Verknüpfung bekannter körpertherapeutischer Ansätze in der Atemtherapie\nneue atemtherapeutische Bewegungsformen für eine verbesserte Lungenventilation\nmanuelle Techniken für Teilbereiche wie u.a. Sekretretention\, Thoraxmobilisation und Rhythmisierung der Atembewegung\nFörderung einer ökonomisch-physiologischen Atem-\, Stimm- und Bewegungsform\nEinsatz der Atem- und Stimmtherapie bei fachübergreifenden Inhalten: u.a. Psychosomatik\, kognitive Störungen\, neurologische Erkrankungen und Bewegungsstörungen\nEinsatz der Semi-occluded Vocal Tract Exercises (SOVTE) in der Behandlung von Sprech- und Stimmstörungen mit Atemwegserkrankungen
URL:https://michaelhelbing.de/termin/ganzheitliche-atem-und-stimmtherapie-bei-postviralen-erkrankungen-wie-long-post-covid/
LOCATION:ProLog WISSEN GmbH\, Olpener Str. 59\, Köln\, Nordrhein Westfalen\, 51103\, Germany
CATEGORIES:Atemtherapie,Fatigue,Neurologie,Stimmtherapie
ATTACH;FMTTYPE=image/png:https://michaelhelbing.de/mediathek/2024/11/9.png
END:VEVENT
BEGIN:VEVENT
DTSTART;VALUE=DATE:20251011
DTEND;VALUE=DATE:20251013
DTSTAMP:20260423T104107
CREATED:20250122T102435Z
LAST-MODIFIED:20250124T102238Z
UID:10000011-1760140800-1760313599@michaelhelbing.de
SUMMARY:Atemtherapie in der Geriatrie
DESCRIPTION:Konzept Schlaffhorst-Andersen\nDieser Kurs ist als Online- oder Präsenzvariante buchbar \nDieser Kurs bietet eine praxisnahe Weiterbildung in der Atemtherapie für die Geriatrie im Rahmen eines Hybrid Seminars. Den Teilnehmenden steht die Möglichkeit offen\, zwischen einer klassischen Präsenzveranstaltung und einer Teilnahme aus der Ferne zu wählen. Der hybride Ansatz integriert moderne Lehrmethoden und ermöglicht es den Lernenden\, in einer Kombination aus direkter Interaktion und flexiblen Teilnahmeformen von den Vorteilen beider Formate zu profitieren. Dabei werden spezielle Methoden der Ganzkörpertherapie vermittelt\, die gezielt auf die Bedürfnisse älterer Menschen zugeschnitten sind. \nDie Fortbildung in ganzheitlichen Atemtechniken legt großen Wert auf das Zusammenspiel von Atmung\, Aufrichtung\, Bewegung\, Artikulation und Stimme. Im Seminar Konzept Schlaffhorst-Andersen Geriatrie wird ausführlich erläutert\, wie diese wesentlichen Elemente nahtlos integriert werden können. Durch eine enge Verzahnung theoretischer Grundlagen mit praxisorientierten Übungen erwerben die Teilnehmer Kompetenzen\, die sie in der täglichen Arbeit unterstützen. In der Weiterbildung Atem\, Bewegung & Stimme erlernen sie darüber hinaus spezielle Therapiemethoden\, die für die Arbeit mit Menschen in unterschiedlichen pflegerischen und therapeutischen Umfeldern geeignet sind. \nDie Fortbildung richtet sich vor allem an Therapeutinnen und Therapeuten\, die ihre beruflichen Fähigkeiten im Bereich der Geriatrie erweitern möchten. Die praxisnah aufbereiteten Inhalte fördern eine effiziente Arbeitsweise und ermöglichen den Teilnehmenden\, das Gelernte unmittelbar in ihren Berufsalltag zu integrieren. Das Konzept Schlaffhorst verbindet in Kombination mit weiteren innovativen Weiterbildungsmethoden der Atemtherapie fundiertes Wissen und wertvolle praktische Erfahrungen. Die hybride Seminarstruktur ist so gestaltet\, dass sie flexibel auf individuelle Lernbedürfnisse eingehen kann\, ohne den wertvollen Aspekt der persönlichen Interaktion zu vernachlässigen. Der Austausch zwischen den Teilnehmern und Referenten wird dabei aktiv gefördert\, wodurch ein vertieftes Verständnis und eine inspirierende Lernatmosphäre entstehen. \nKursinhalte:\n\nDie Physiologie des Alterns\nFörderung einer ökonomisch-physiologischen Atem-\, Stimm-\, Schluck- und Bewegungsform\nBewegungstraining für Einzel- und Gruppentherapie\nKognitive Förderung und Therapie bei dementiellen Entwicklungen\nGrundlegende Aspekte der palliativen Begleitung\nManuelle Techniken zur Begleitung in Therapie und Pflege\nTherapie von Presbyphagien und Presbyphonien\nEssen & Trinken als basale Stimulation\nDie ethische Auseinandersetzung der Therapie und Pflege\nDer Einsatz der Sing- und Sprechstimme\nBegleitung von Angehörigen\n\nDurch den modularen Aufbau sowie den Hybrid Seminar Ansatz werden die individuellen Bedürfnisse der Teilnehmer berücksichtigt. Die Ausbildung schließt mit einem fundierten Überblick der Spezialgebiete ab. \nBitte beachten: Dieser Kurs findet hybrid statt\, das heißt\, er wird sowohl Online als auch in Präsenz angeboten.
URL:https://michaelhelbing.de/termin/atemtherapie-in-der-geriatrie-2/
LOCATION:MFZ Hannover GMBH & CO KG\, Hildesheimer Str. 265\, Hannover\, Niedersachsen\, 30519\, Germany
CATEGORIES:Atemtherapie
ATTACH;FMTTYPE=image/png:https://michaelhelbing.de/mediathek/2024/11/1.png
END:VEVENT
BEGIN:VEVENT
DTSTART;TZID=Europe/Berlin:20251013T180000
DTEND;TZID=Europe/Berlin:20251013T193000
DTSTAMP:20260423T104107
CREATED:20250122T100211Z
LAST-MODIFIED:20250124T101846Z
UID:10000005-1760378400-1760383800@michaelhelbing.de
SUMMARY:ME/CFS (chronisches Fatigue Syndrom) in der Therapie UPDATE
DESCRIPTION:Online-Seminar [2 FP]\nMyalgische Enzephalomyelitis / Chronisches Fatigue Syndrom (ME/CFS) ist eine neuroimmunologische\, postvirale Multisystemerkrankung mit Dysregulation des Immunsystems\, des autonomen Nervensystems und des zellulären Energiestoffwechsels. \nMultiple Sklerose\, ADHS\, Eppstein-Barr\, Somatische Störungen – überall kann die Fatigue auftreten.ME/CFS ist international als eigenständiges Krankheitsbild anerkannt. \nIn diesem Kurs soll dir der Umgang mit der Fatigue bei deinen Patienten aufgezeigt werden. \nLerne ein Energiemanagement für Menschen mit chronischer Erschöpfung kennen und anwenden.
URL:https://michaelhelbing.de/termin/me-cfs-chronisches-fatigue-syndrom-in-der-therapie-update/
LOCATION:MFZ BERLIN GMBH & CO KG\, Mariendorfer Damm 159\, Berlin\, Berlin\, 12107
CATEGORIES:Fatigue
ATTACH;FMTTYPE=image/png:https://michaelhelbing.de/mediathek/2024/11/9.png
ORGANIZER;CN="MFZ MFZ BERLIN GMBH & CO KG":MAILTO:info@mfz-berlin.de
END:VEVENT
BEGIN:VEVENT
DTSTART;TZID=Europe/Berlin:20251014T173000
DTEND;TZID=Europe/Berlin:20251014T200000
DTSTAMP:20260423T104107
CREATED:20250122T132825Z
LAST-MODIFIED:20250220T085806Z
UID:10000038-1760463000-1760472000@michaelhelbing.de
SUMMARY:Gut bei Stimme mit SOVTE?!
DESCRIPTION:Effektive Stimmarbeit mit SOVTE – Wissenschaftlich fundiert & praxisnah \nErleben Sie eine fundierte Herangehensweise an Stimmbildung und Stimmtherapie mit Übungen des Semi-Occluded Vocal Tract (SOVTE). Diese Methode ist leicht erlernbar\, alltagstauglich und individuell anpassbar – ideal für Therapie\, Gesang und Sprechtraining. \nUnser Kurs vermittelt praxisnah\, wie SOVTE gezielt in der Therapie und im Training eingesetzt werden können. Sie lernen verschiedene Anwendungen kennen\, schärfen Ihr Gehör und diskutieren den aktuellen Stand der Forschung.
URL:https://michaelhelbing.de/termin/gut-bei-stimme-mit-sovte/
LOCATION:Logopädie PLUS Akademie\, Konrad-Adenauer-Allee 15\, Augsburg\, Bayern\, 86150\, Germany
CATEGORIES:Stimmtherapie
ATTACH;FMTTYPE=image/png:https://michaelhelbing.de/mediathek/2024/11/5.png
END:VEVENT
BEGIN:VEVENT
DTSTART;TZID=Europe/Berlin:20251017T090000
DTEND;TZID=Europe/Berlin:20251017T170000
DTSTAMP:20260423T104107
CREATED:20250122T151429Z
LAST-MODIFIED:20250124T100841Z
UID:10000058-1760691600-1760720400@michaelhelbing.de
SUMMARY:Gemeinsam klangvoll- Einsatz der Sing- und Sprechstimme bei neurologischen Erkrankungen
DESCRIPTION:In diesem Kurs lernen Sie\, mit der Sing- und Sprechstimme Patienten mit neurologischen Erkrankungen zu unterstützen. In der Therapie\, der rehabilitativen Begleitung\, der palliativen Versorgung oder im Rahmen von Gruppenangeboten setzen Sie Ihre und die Stimme Ihrer Patienten als Therapeutikum ein. Gerade für Betroffene von chronisch entzündlichen\, neurologischen Erkrankungen ist die Stimme ein Instrument von besonderer Bedeutung. \nDie Erfahrung zeigt\, dass Stimmfunktion\, Sprechtechnik\, Lautstärke\, aber auch das Schlucken und die Konzentration sich durch Singen und gestalterisches Sprechen optimieren lassen. Lernen Sie die Bedeutung des Singens für neurologische Erkrankungen aus Sicht der aktuellen wissenschaftlichen Erkenntnisse und die Auswirkungen auf die körperlichen Funktionen kennen. Neben der theoretischen Auseinandersetzung werden Sie in zahlreichen praktischen Einheiten die Inhalte des Kurses anwenden lernen. \nSeminarinhalte\n\nSingen und gestalterisches Sprechen in der Therapie und Begleitung von neurologischen Erkrankungen und dementiellen Entwicklungen\nAuswirkungen auf die Kognition und die Atem-\, Stimm-\, Sprech-\, Sprach-\, und Schluckfunktionen\nBiographiearbeit in der neurologischen Therapie\nEinfache Atemtechniken für die Stimme und das Sprechen\nWarm-ups für den Körper und die Stimme\nSingen und Sprechgesang in der Gruppe\nEinsatz manueller Techniken
URL:https://michaelhelbing.de/termin/gemeinsam-klangvoll-einsatz-der-sing-und-sprechstimme-bei-neurologischen-erkrankungen/
LOCATION:Logomania\, Fürstenrieder Straße 82b\, München\, Bayern\, 80686\, Germany
CATEGORIES:Gesang,Stimmtherapie,Stimmtraining
ATTACH;FMTTYPE=image/png:https://michaelhelbing.de/mediathek/2024/11/5.png
END:VEVENT
BEGIN:VEVENT
DTSTART;VALUE=DATE:20251018
DTEND;VALUE=DATE:20251020
DTSTAMP:20260423T104107
CREATED:20250122T151610Z
LAST-MODIFIED:20250124T100834Z
UID:10000059-1760745600-1760918399@michaelhelbing.de
SUMMARY:Kiefer und Kehle – Die therapeutische Behandlung der craniomandibulären Dysfunktion im Fokus der Atem-\, Sprech-\, Stimm- und Schluckfunktion
DESCRIPTION:Als craniomandibuläre Dysfunktion\, kurz CMD\, bezeichnet man eine zum Teil schmerzhafte Fehlregulation des Kauapparates\, die durch ein gestörtes Zusammenspiel verschiedener Muskeln\, Sehnen und Gelenke ausgelöst wird. \nIn diesem Seminar lernst du\, Kieferfehlstellungen zu verstehen\, zu diagnostizieren und zu therapieren. Einen besonderen Schwerpunkt legen wir auf die Auswirkungen auf die Schluckfunktion\, Kaufunktion sowie Stimm- und Sprechfunktion. Wir erarbeiten eine ganzheitliche Therapie\, bestehend aus manuellen Strategien\, Positionierungstechniken\, Funktionstraining und dem direkten Übertrag in die Funktionskreise Atmung\, Stimme\, Sprechen\, Schlucken und Bewegung. \nLerne Patienten bei Kieferfunktionsstörungen\, Kieferanomalien und Schluckstörungen sowie beim Globusgefühl und den damit einhergehenden Auswirkungen auf die Stimme zu unterstützen. Du erlernst eine ganzkörperliche Behandlung für eine optimierte Aufrichtung zur Unterstützung des gesamten Bewegungsapparates. Dabei nutzen wir manuelle Interventionen zur Schulung der Wahrnehmung und Mobilisierung von Narbengewebe\, erarbeiten neue Bewegungsmuster und inhibieren unphysiologische Bewegungsabläufe. Du lernst anatomische und funktionelle Grundlagen\, Differentialdiagnostik und ganzheitliche Therapieansätze. Themen sind unter anderem die Behandlung von Kiefer-\, intra- und extraoralen Gelenken und der beteiligten Muskulatur. \nSeminarinhalte\n\nCMD – verstehen und behandeln\nViszerales Schluckmuster\, Kieferanomalien – CMD und seine Auswirkungen\nTherapeutische Interventionen bei Atem-\, Sprech- Stimm- und Schluckstörungen\nManuelle Strategien
URL:https://michaelhelbing.de/termin/kiefer-und-kehle-die-therapeutische-behandlung-der-craniomandibulaeren-dysfunktion-im-fokus-der-atem-sprech-stimm-und-schluckfunktion/
LOCATION:Logomania\, Fürstenrieder Straße 82b\, München\, Bayern\, 80686\, Germany
CATEGORIES:Atemtherapie,NOVAFON,Stimmtherapie,Stimmtraining
ATTACH;FMTTYPE=image/png:https://michaelhelbing.de/mediathek/2024/11/5.png
END:VEVENT
END:VCALENDAR