BEGIN:VCALENDAR
VERSION:2.0
PRODID:-//Michael Helbing - ECPv6.15.20//NONSGML v1.0//EN
CALSCALE:GREGORIAN
METHOD:PUBLISH
X-WR-CALNAME:Michael Helbing
X-ORIGINAL-URL:https://michaelhelbing.de
X-WR-CALDESC:Veranstaltungen für Michael Helbing
REFRESH-INTERVAL;VALUE=DURATION:PT1H
X-Robots-Tag:noindex
X-PUBLISHED-TTL:PT1H
BEGIN:VTIMEZONE
TZID:Europe/Berlin
BEGIN:DAYLIGHT
TZOFFSETFROM:+0100
TZOFFSETTO:+0200
TZNAME:CEST
DTSTART:20240331T010000
END:DAYLIGHT
BEGIN:STANDARD
TZOFFSETFROM:+0200
TZOFFSETTO:+0100
TZNAME:CET
DTSTART:20241027T010000
END:STANDARD
BEGIN:DAYLIGHT
TZOFFSETFROM:+0100
TZOFFSETTO:+0200
TZNAME:CEST
DTSTART:20250330T010000
END:DAYLIGHT
BEGIN:STANDARD
TZOFFSETFROM:+0200
TZOFFSETTO:+0100
TZNAME:CET
DTSTART:20251026T010000
END:STANDARD
BEGIN:DAYLIGHT
TZOFFSETFROM:+0100
TZOFFSETTO:+0200
TZNAME:CEST
DTSTART:20260329T010000
END:DAYLIGHT
BEGIN:STANDARD
TZOFFSETFROM:+0200
TZOFFSETTO:+0100
TZNAME:CET
DTSTART:20261025T010000
END:STANDARD
END:VTIMEZONE
BEGIN:VEVENT
DTSTART;TZID=Europe/Berlin:20250317T180000
DTEND;TZID=Europe/Berlin:20250317T200000
DTSTAMP:20260424T123220
CREATED:20250122T152527Z
LAST-MODIFIED:20250201T082843Z
UID:10000060-1742234400-1742241600@michaelhelbing.de
SUMMARY:Schmerz & Stimme "Therapie des Globusgefühls
DESCRIPTION:Webinar / Online Vortrag\nohne limitierte Plätze\nDas Globusgefühl – häufig als das Empfinden eines Kloßes oder Fremdkörpers im Hals beschrieben – stellt viele Patient*innen vor große Herausforderungen. Obwohl organisch oft keine Ursache erkennbar ist\, kann dieses Gefühl erhebliche Belastungen verursachen. In diesem Webinar werden wir die Mechanismen hinter dem Globusgefühl analysieren\, diagnostische Ansätze diskutieren und praxisorientierte Therapiestrategien entwickeln. \nDas Webinar beleuchtet sowohl die körperlichen Ursachen wie Reflux\, Schilddrüsenvergrößerungen oder Motilitätsstörungen der Speiseröhre als auch psychische Faktoren wie Stress und Angststörungen. Zudem wird die Rolle des Nocebo Effekts im Umgang mit Schmerz und Symptomwahrnehmung thematisiert. \n\nWas ist das Globusgefühl – Eine ausführliche Symptombeschreibung und Abgrenzung zu anderen Störungsbildern\nOrganische und psychische Ursachen – Von Reflux und Halswirbelsäulenveränderungen bis hin zu Stress und Angststörungen\nDer Nocebo Effekt und seine Bedeutung – Wie negative Erwartungen Symptome verstärken können\nTherapieansätze und Hausmittel – Welche Ansätze helfen wirklich Einblicke in bewährte Behandlungsmethoden\nDer Einfluss der Kiefermuskulatur\, der Halswirbelsäule und des Nervus Vagus – Wie beeinflussen sie das Globusgefühl und welche therapeutischen Ansätze sind erfolgversprechend\nKlientenzentrierte Ansätze für Therapeut*innen und Pädagog*innen Wie du gezielt auf das Globusgefühl eingehen und es effektiv therapieren kannst\n\nDas Webinar richtet sich an Therapeut*innen und Pädagog*innen die sich fundiertes Wissen zur Diagnose und Therapie des Globusgefühls aneignen möchten. Dabei wird der Fokus auf praxisorientierte wissenschaftlich fundierte Behandlungsstrategien gelegt die direkt in den therapeutischen Alltag integriert werden können. \nNutze diese Gelegenheit um tiefere Einblicke in die therapeutischen Möglichkeiten zu gewinnen und erhalte wertvolle Impulse für die Behandlung dieses häufig unterschätzten Symptoms.
URL:https://michaelhelbing.de/termin/schmerz-stimme-therapie-des-globusgefuehls/
LOCATION:Online\, Germany
CATEGORIES:LAX VOX ®,Stimmtherapie,Stimmtraining,Webinar
ATTACH;FMTTYPE=image/png:https://michaelhelbing.de/mediathek/2025/01/Atemtherapie-5.png
ORGANIZER;CN="Michael Helbing":MAILTO:info@stimmkontor.com
END:VEVENT
BEGIN:VEVENT
DTSTART;VALUE=DATE:20250322
DTEND;VALUE=DATE:20250324
DTSTAMP:20260424T123220
CREATED:20250122T132421Z
LAST-MODIFIED:20250124T110105Z
UID:10000036-1742601600-1742774399@michaelhelbing.de
SUMMARY:Stimmtherapie kompakt - funktionelle & organische Dysphonien effizient behandeln
DESCRIPTION:Die stimmtherapeutische Landschaft ist vielfältig und komplex. In diesem Kurs erarbeiten wir gemeinsam die praktische Anwendung bewährter stimmtherapeutischer Tools\, die durch wissenschaftliche Forschung und kollegiale Erfahrungswerte als besonders wirkungsvoll eingestuft wurden. \nSie lernen\, wann welche Techniken am besten eingesetzt werden und erhalten Klarheit über die Struktur und Anwendung der verschiedenen Methoden. In Einzel- und Gruppensituationen arbeiten wir an unterschiedlichen stimmlichen Qualitäten\, diskutieren klinische Urteilsbildung und räumen Missverständnisse aus dem Weg\, um Ihnen eine effektive Unterstützung in der Praxis zu bieten.
URL:https://michaelhelbing.de/termin/stimmtherapie-kompakt-funktionelle-organische-dysphonien-effizient-behandeln/
LOCATION:Logopädie PLUS Akademie\, Konrad-Adenauer-Allee 15\, Augsburg\, Bayern\, 86150\, Germany
CATEGORIES:Stimmtherapie
ATTACH;FMTTYPE=image/png:https://michaelhelbing.de/mediathek/2024/11/5.png
END:VEVENT
END:VCALENDAR