BEGIN:VCALENDAR
VERSION:2.0
PRODID:-//Michael Helbing - ECPv6.15.20//NONSGML v1.0//EN
CALSCALE:GREGORIAN
METHOD:PUBLISH
X-ORIGINAL-URL:https://michaelhelbing.de
X-WR-CALDESC:Veranstaltungen für Michael Helbing
REFRESH-INTERVAL;VALUE=DURATION:PT1H
X-Robots-Tag:noindex
X-PUBLISHED-TTL:PT1H
BEGIN:VTIMEZONE
TZID:Europe/Berlin
BEGIN:DAYLIGHT
TZOFFSETFROM:+0100
TZOFFSETTO:+0200
TZNAME:CEST
DTSTART:20240331T010000
END:DAYLIGHT
BEGIN:STANDARD
TZOFFSETFROM:+0200
TZOFFSETTO:+0100
TZNAME:CET
DTSTART:20241027T010000
END:STANDARD
BEGIN:DAYLIGHT
TZOFFSETFROM:+0100
TZOFFSETTO:+0200
TZNAME:CEST
DTSTART:20250330T010000
END:DAYLIGHT
BEGIN:STANDARD
TZOFFSETFROM:+0200
TZOFFSETTO:+0100
TZNAME:CET
DTSTART:20251026T010000
END:STANDARD
BEGIN:DAYLIGHT
TZOFFSETFROM:+0100
TZOFFSETTO:+0200
TZNAME:CEST
DTSTART:20260329T010000
END:DAYLIGHT
BEGIN:STANDARD
TZOFFSETFROM:+0200
TZOFFSETTO:+0100
TZNAME:CET
DTSTART:20261025T010000
END:STANDARD
END:VTIMEZONE
BEGIN:VEVENT
DTSTART;TZID=Europe/Berlin:20250331T100000
DTEND;TZID=Europe/Berlin:20250331T140000
DTSTAMP:20260424T015447
CREATED:20250224T165702Z
LAST-MODIFIED:20250224T165834Z
UID:10000071-1743415200-1743429600@michaelhelbing.de
SUMMARY:Webinar - Voice up - Dein Intensivkurs für die Stimme
DESCRIPTION:Nur 10 Plätze!\n\nUnterrichtseinheiten 5 UE\nFortbildungspunkte 2\,5 FP\nDie Stimme ist mehr als ein Werkzeug – sie ist Ausdruck\, Präsenz und Persönlichkeit. In diesem Online-Intensivkurs arbeiten wir gezielt an Stimmkraft\, Resonanz und Flexibilität. In einer kleinen Gruppe bekommst du individuelles Feedback und praxisnahe Übungen\, die deine Stimme nachhaltig stärken. \nOb für Beruf\, Bühne oder den Alltag – du lernst\, deine Stimme bewusst einzusetzen\, ökonomisch zu nutzen und stimmliche Möglichkeiten voll auszuschöpfen. Wissenschaftlich fundiert\, praxisorientiert und direkt umsetzbar. \nWas erwartet dich?\nWie funktioniert deine Stimme? – Verstehe die Mechanik hinter Klang & AusdruckDein persönliches Warm-up – Die perfekte Routine für eine leistungsfähige StimmeDer schnelle Stimmboost – 5 Minuten\, die deine Stimme täglich verändernNie wieder Kratzen & Heiserkeit – Stimmgesundheit verstehen und bewahrenÜberzeugend sprechen – Präsenz\, Klarheit und Ausdruck gezielt einsetzenDeine stimmliche Visitenkarte – Authentisch klingen\, souverän auftreten
URL:https://michaelhelbing.de/termin/webinar-voice-up-dein-intensivkurs-fuer-die-stimme/
LOCATION:Online\, Germany
CATEGORIES:Gesang,LAX VOX ®,Stimmtherapie,Stimmtraining,Webinar
ATTACH;FMTTYPE=image/png:https://michaelhelbing.de/mediathek/2025/01/Atemtherapie-5.png
ORGANIZER;CN="Michael Helbing":MAILTO:info@stimmkontor.com
END:VEVENT
BEGIN:VEVENT
DTSTART;TZID=Europe/Berlin:20250331T180000
DTEND;TZID=Europe/Berlin:20250331T200000
DTSTAMP:20260424T015447
CREATED:20250218T152031Z
LAST-MODIFIED:20250218T152031Z
UID:10000070-1743444000-1743451200@michaelhelbing.de
SUMMARY:Webinar "Inhalieren – Richtig anwenden\, sicher wirken lassen"
DESCRIPTION:Unterrichtseinheiten 2\,5 UE\nFortbildungspunkte 1\,5 FP \nInhalationstherapie verstehen und optimal nutzen\nLimitiert auf 10 Plätze \nOb bei Asthma\, COPD oder anderen Atemwegserkrankungen – die richtige Inhalation ist entscheidend für die Wirksamkeit der Therapie. Doch viele Menschen wenden ihre Inhalationsgeräte nicht optimal an oder sind unsicher\, welche Methode in welcher Situation am besten geeignet ist. Zudem stellt sich oft die Frage\, wie mit Husten\, Schleim und Sekretmanagement umgegangen werden kann\, um die Atemwege zu entlasten. \nIn diesem zweistündigen Webinar erhältst du praxisnahes Wissen rund um die Inhalation und das richtige Sekretmanagement: \n\nWelche Inhaliergeräte gibt es und wie funktionieren sie?\nWie wende ich Dosier-Aerosole\, Pulverinhalatoren und Vernebler richtig an?\nWas sind häufige Fehler und wie lassen sie sich vermeiden?\nWelche Inhalationstechnik ist für mich oder meine Patient*innen die richtige?\nWie unterstütze ich den Abtransport von Schleim und Sekret?\nWann ist Husten sinnvoll und welche Hustenstrategien sind schonend und effektiv?\nWelche Techniken erleichtern das Abhusten und wie kann ich produktiven Husten unterstützen?\n\nDieses Webinar richtet sich an Patient*innen\, Angehörige und Fachpersonen\, die sich fundiert mit der Inhalationstherapie auseinandersetzen möchten. Neben einer verständlichen Einführung in die verschiedenen Methoden stehen vor allem praktische Tipps im Fokus. \nWenn du dich für das Angebot entscheidest\, erhältst du: \n\nEin umfassendes\, liebevoll gestaltetes Workbook\nEin interaktives Livewebinar\, das dir aktuelles Fachwissen vermittelt\nPraktische Anwendungsbeispiele und Tipps\, basierend auf den neuesten Erkenntnissen\nSpannende wissenschaftliche Einblicke\, die dir helfen\, dein Wissen zu vertiefen\nDie Möglichkeit\, deine Fragen direkt im Webinar zu stellen und individuell beantwortet zu bekommen\n\nAlles ist darauf ausgelegt\, dir einen maximalen Mehrwert zu bieten!
URL:https://michaelhelbing.de/termin/webinar-inhalieren-richtig-anwenden-sicher-wirken-lassen/
LOCATION:Online\, Germany
CATEGORIES:Atemtherapie,LAX VOX ®,palliative Arbeit,Stimmtherapie,Webinar
ATTACH;FMTTYPE=image/png:https://michaelhelbing.de/mediathek/2025/01/Atemtherapie-5.png
ORGANIZER;CN="Michael Helbing":MAILTO:info@stimmkontor.com
END:VEVENT
BEGIN:VEVENT
DTSTART;TZID=Europe/Berlin:20250401T180000
DTEND;TZID=Europe/Berlin:20250401T193000
DTSTAMP:20260424T015447
CREATED:20250122T144721Z
LAST-MODIFIED:20250201T082943Z
UID:10000052-1743530400-1743535800@michaelhelbing.de
SUMMARY:Was höre ich? Stimmdiagnostik und die Wahrnehmungsschulung des therapeutischen Hörens
DESCRIPTION:Dieses Kompaktwebinar bietet eine fundierte Einführung in die Wahrnehmungsschulung für therapeutisches Hören und die derzeitig geltende Stimmdiagnostik. Michael Helbing vermittelt dabei wissenschaftlich fundiertes Wissen\, das direkt in der therapeutischen Praxis angewendet werden kann. Die Teilnehmenden lernen\, wie sie ihre Hörfähigkeiten gezielt schulen\, um Stimm- und Sprechstörungen präzise zu erkennen und zu diagnostizieren. \nWelche Struktur macht welchen Klang? \nIn diesem Abschnitt erfahren Sie\, wie unterschiedliche anatomische Strukturen des Stimmapparates spezifische Klangfarben erzeugen. Sie lernen\, durch gezieltes Hören die feinen Unterschiede in der Stimmqualität zu erkennen und Rückschlüsse auf die zugrunde liegenden anatomischen und funktionellen Gegebenheiten zu ziehen. Dieses Wissen ist essenziell für eine präzise Diagnostik und eine gezielte therapeutische Intervention. \nStimmprüfung – wie sicher ist die Diagnose? \nDer Kurs beleuchtet auch die Methoden der Stimmprüfung und stellt die Frage nach der Sicherheit und Genauigkeit der Diagnoseverfahren. Sie erhalten Einblicke in bewährte Techniken der Stimmprüfung und lernen\, wie Sie durch geschulte Wahrnehmung die Qualität der Stimme beurteilen können. Dabei wird auch auf die Grenzen und Herausforderungen diagnostischer Verfahren eingegangen. \nSeminarinhalte\n\nWahrnehmungsschulung des therapeutischen Hörens\nWelche Struktur macht welchen Klang?\nStimmprüfung – wie sicher ist die Diagnose?\nApparative Diagnostik\nSelfasessments richtig anwenden
URL:https://michaelhelbing.de/termin/was-hoere-ich-stimmdiagnostik-und-die-wahrnehmungsschulung-des-therapeutischen-hoerens/
LOCATION:Online\, Germany
CATEGORIES:Stimmtherapie,Webinar
ATTACH;FMTTYPE=image/png:https://michaelhelbing.de/mediathek/2024/11/5.png
END:VEVENT
BEGIN:VEVENT
DTSTART;VALUE=DATE:20250403
DTEND;VALUE=DATE:20250404
DTSTAMP:20260424T015447
CREATED:20250122T134443Z
LAST-MODIFIED:20250124T105707Z
UID:10000042-1743638400-1743724799@michaelhelbing.de
SUMMARY:Behandlung der kindlichen Sing- und Sprechstimme nach dem Konzept Schlaffhorst-Andersen
DESCRIPTION:Behandlung der kindlichen Sing- und Sprechstimme nach dem Konzept Schlaffhorst-Andersen\nIn diesem interaktiven Kurs werden wir uns ausführlich mit der Behandlung von kindlichen Stimmstörungen nach dem bewährten Konzept Schlaffhorst-Andersen befassen. Kindliche Stimmstörungen können sich in verschiedenen Formen äußern\, von anhaltender Heiserkeit bis hin zu kraftlosem oder hauchigem Stimmklang. Unser Fokus liegt nicht nur auf der Identifikation von Ursachen und Symptomen\, sondern auch auf kreativen Therapieansätzen und evidenzbasierten Behandlungsmethoden. Darüber hinaus werden wir Kommunikationsstrategien im Umfeld des Kindes diskutieren\, da soziale Faktoren oft eine entscheidende Rolle bei Stimmstörungen spielen. \nKursinhalte:\n\nRisikofaktoren von kindlichen Stimmstörungen: Wir werden die verschiedenen Faktoren untersuchen\, die zur Entstehung von Stimmstörungen bei Kindern beitragen können.\nHäufigkeit von funktionellen und organischen Stimmstörungen bei Kindern: Eine Analyse der Prävalenz von Stimmstörungen und Unterscheidung zwischen funktionellen und organischen Ursachen.\nGeschlechtsunterschiede in der Prävalenz von Stimmstörungen bei Kindern: Ein Blick auf mögliche geschlechtsspezifische Unterschiede bei Stimmstörungen und deren Häufigkeit.\nSymptome kindlicher Stimmstörungen und deren Auswirkungen auf die Stimmqualität: Wir werden die verschiedenen Symptome von Stimmstörungen besprechen und wie sie die Stimmqualität beeinflussen können.\nPrävention von organischen Stimmveränderungen durch rechtzeitige Behandlung: Die Bedeutung einer frühzeitigen Diagnose und Behandlung\, um organische Stimmveränderungen zu verhindern.\nZielgerichtete Therapie der kindlichen Stimmstörung: Wir werden das Konzept Schlaffhorst-Andersen genauer erläutern und wie es in der Therapie angewendet werden kann.\nDer Faktor Umfeld\, als tragende Rolle zur physiologischen Stimme: Die Bedeutung des sozialen Umfeldes und seiner Auswirkungen auf die Stimmgesundheit des Kindes.
URL:https://michaelhelbing.de/termin/behandlung-der-kindlichen-sing-und-sprechstimme-nach-dem-konzept-schlaffhorst-andersen/
LOCATION:Verband der LogopädInnen für Ober Österreich\, DLZ – Schärdinger Straße 15\, Pasching\, 4061\, Austria
CATEGORIES:Gesang,Stimmtherapie
ATTACH;FMTTYPE=image/png:https://michaelhelbing.de/mediathek/2024/11/5.png
END:VEVENT
BEGIN:VEVENT
DTSTART;VALUE=DATE:20250404
DTEND;VALUE=DATE:20250406
DTSTAMP:20260424T015447
CREATED:20250122T134636Z
LAST-MODIFIED:20250124T105510Z
UID:10000043-1743724800-1743897599@michaelhelbing.de
SUMMARY:Therapeutische Mundpflege und die diätische Kostanpassung bei dementiellen Erkrankungen und in der palliativen Arbeit
DESCRIPTION:In diesem zweitägigen Praxiskurs erlernen alle Teilnehmer*innen Fertigkeiten für die optimale Begleitung der Kostanpassung und Mundpflege im geriatrisch-neurologischen und palliativen Kontext. \nIm Block Mundpflege besprechen wir die wichtigen Strategien der Pneumonieprophylaxe und der mundhygiene. Praktisch erlernen wir verschiedenste Formen  der Mund- und Zahnpflege. Es werden verschiedenen Massagetechniken und Reinigungsstrategien erlernt. Dabei werden auch verschiedene natürliche und medizinische Pflegemittel verwendet. \nIm Block Kostanpassung setzen wir uns theoretisch mit den verschiednen Koststufen und deren Nutzen auseinander. Dann erarbeiten wir teilhabeorientierte Strategien zur Nahrungsaufnahme\, die besonders Menschen mit dementiellen Entwicklungen betreffen. Praktisch lernen wir selbst Koststufen herzustellen. Dabei erlernen alle Smoothfood\, Schaum/Spumakost\, Viskose/Gelee und Smoothies zu produzieren. Für die palliative Arbeit erlernen alle\, Geschmackserlebnisse mit nicht asperierbarem Schaum herzustellen. \nDie Teilnehmer und Teilnehmerinnen werden gebeten ein Getränk (ggf.alkoholisch) nach Wahl mitzubringen\, welches als gustatorischer Reiz verwendet wird.
URL:https://michaelhelbing.de/termin/therapeutische-mundpflege-und-die-diaetische-kostanpassung-bei-dementiellen-erkrankungen-und-in-der-palliativen-arbeit/
LOCATION:Verband der LogopädInnen für Ober Österreich\, DLZ – Schärdinger Straße 15\, Pasching\, 4061\, Austria
CATEGORIES:Neurologie
ATTACH;FMTTYPE=image/png:https://michaelhelbing.de/mediathek/2024/11/8.png
END:VEVENT
END:VCALENDAR