BEGIN:VCALENDAR
VERSION:2.0
PRODID:-//Michael Helbing - ECPv6.15.20//NONSGML v1.0//EN
CALSCALE:GREGORIAN
METHOD:PUBLISH
X-ORIGINAL-URL:https://michaelhelbing.de
X-WR-CALDESC:Veranstaltungen für Michael Helbing
REFRESH-INTERVAL;VALUE=DURATION:PT1H
X-Robots-Tag:noindex
X-PUBLISHED-TTL:PT1H
BEGIN:VTIMEZONE
TZID:Europe/Berlin
BEGIN:DAYLIGHT
TZOFFSETFROM:+0100
TZOFFSETTO:+0200
TZNAME:CEST
DTSTART:20240331T010000
END:DAYLIGHT
BEGIN:STANDARD
TZOFFSETFROM:+0200
TZOFFSETTO:+0100
TZNAME:CET
DTSTART:20241027T010000
END:STANDARD
BEGIN:DAYLIGHT
TZOFFSETFROM:+0100
TZOFFSETTO:+0200
TZNAME:CEST
DTSTART:20250330T010000
END:DAYLIGHT
BEGIN:STANDARD
TZOFFSETFROM:+0200
TZOFFSETTO:+0100
TZNAME:CET
DTSTART:20251026T010000
END:STANDARD
BEGIN:DAYLIGHT
TZOFFSETFROM:+0100
TZOFFSETTO:+0200
TZNAME:CEST
DTSTART:20260329T010000
END:DAYLIGHT
BEGIN:STANDARD
TZOFFSETFROM:+0200
TZOFFSETTO:+0100
TZNAME:CET
DTSTART:20261025T010000
END:STANDARD
END:VTIMEZONE
BEGIN:VEVENT
DTSTART;TZID=Europe/Berlin:20250603T100000
DTEND;TZID=Europe/Berlin:20250603T130000
DTSTAMP:20260424T015508
CREATED:20250409T201720Z
LAST-MODIFIED:20250409T202520Z
UID:10000075-1748944800-1748955600@michaelhelbing.de
SUMMARY:Psychogene Dysphonie – wenn die Stimme verstummt und die Seele spricht
DESCRIPTION:Limitiert auf 10 Plätze \nPsychogene Dysphonien sind funktionelle Stimmstörungen ohne organische Ursache\, die häufig in Zusammenhang mit psychischer Belastung\, inneren Konflikten oder Traumata stehen. Betroffene erleben eine plötzlich auftretende oder schleichend entwickelte Stimmveränderung – bis hin zum vollständigen Stimmverlust – bei gleichzeitig unauffälliger Kehlkopfuntersuchung. \nTrotz ihrer Häufigkeit werden psychogene Dysphonien im klinischen Alltag oft spät erkannt oder ausschließlich psychiatrisch behandelt – dabei ist die interdisziplinäre Zusammenarbeit mit der Stimmtherapie zentral. \nInhalte des Webinars: \n\n\nDefinition und Klassifikation der psychogenen Dysphonie (nach ICD-11 und Forschungslage) \n\n\nAktuelle Erkenntnisse aus Forschung und Praxis. \n\n\nErkennungsmerkmale und Differentialdiagnose zur organischen und funktionellen Dysphonie \n\n\nTypische Verlaufsformen: aphon\, tonlos\, flüsternd\, überkontrolliert – aber mit meist intakter Singstimme \n\n\nPsychodynamische und psychosomatische Hintergründe \n\n\nDiagnostik: Anamnese\, Fragebögen\, Ausschlusskriterien und interdisziplinäre Abklärung \n\n\nTherapeutisches Vorgehen in der Logopädie \n\n\nAbgrenzung zur somatoformen Störung und Konversionsstörung\nDie psychogene Dysphonie fordert nicht nur klinisches Wissen\, sondern auch eine sensible therapeutische Haltung. In diesem Webinar lernst du\, wie du Klient*innen mit psychogenen Stimmstörungen sicher begleitest – zwischen Stimme\, Emotion und therapeutischem Rahmen. \n\n\nWenn du dich für das Angebot entscheidest\, erhältst du: \n\nEin interaktives Livewebinar\, das dir aktuelles Fachwissen vermittelt\nPraktische Anwendungsbeispiele und Tipps\, basierend auf den neuesten Erkenntnissen\nSpannende wissenschaftliche Einblicke\, die dir helfen\, dein Wissen zu vertiefen\nDie Möglichkeit\, deine Fragen direkt im Webinar zu stellen und individuell beantwortet zu bekommen\n\nAlles ist darauf ausgelegt\, dir einen maximalen Mehrwert zu bieten!
URL:https://michaelhelbing.de/termin/psychogene-dysphonie-wenn-die-stimme-verstummt-und-die-seele-spricht/
LOCATION:Online\, Germany
CATEGORIES:Gesang,Stimmtherapie,Stimmtraining,Webinar
ATTACH;FMTTYPE=image/png:https://michaelhelbing.de/mediathek/2025/01/Atemtherapie-5.png
ORGANIZER;CN="Michael Helbing":MAILTO:info@stimmkontor.com
END:VEVENT
END:VCALENDAR