BEGIN:VCALENDAR
VERSION:2.0
PRODID:-//Michael Helbing - ECPv6.15.20//NONSGML v1.0//EN
CALSCALE:GREGORIAN
METHOD:PUBLISH
X-ORIGINAL-URL:https://michaelhelbing.de
X-WR-CALDESC:Veranstaltungen für Michael Helbing
REFRESH-INTERVAL;VALUE=DURATION:PT1H
X-Robots-Tag:noindex
X-PUBLISHED-TTL:PT1H
BEGIN:VTIMEZONE
TZID:Europe/Berlin
BEGIN:DAYLIGHT
TZOFFSETFROM:+0100
TZOFFSETTO:+0200
TZNAME:CEST
DTSTART:20240331T010000
END:DAYLIGHT
BEGIN:STANDARD
TZOFFSETFROM:+0200
TZOFFSETTO:+0100
TZNAME:CET
DTSTART:20241027T010000
END:STANDARD
BEGIN:DAYLIGHT
TZOFFSETFROM:+0100
TZOFFSETTO:+0200
TZNAME:CEST
DTSTART:20250330T010000
END:DAYLIGHT
BEGIN:STANDARD
TZOFFSETFROM:+0200
TZOFFSETTO:+0100
TZNAME:CET
DTSTART:20251026T010000
END:STANDARD
BEGIN:DAYLIGHT
TZOFFSETFROM:+0100
TZOFFSETTO:+0200
TZNAME:CEST
DTSTART:20260329T010000
END:DAYLIGHT
BEGIN:STANDARD
TZOFFSETFROM:+0200
TZOFFSETTO:+0100
TZNAME:CET
DTSTART:20261025T010000
END:STANDARD
END:VTIMEZONE
BEGIN:VEVENT
DTSTART;TZID=Europe/Berlin:20250707T100000
DTEND;TZID=Europe/Berlin:20250707T150000
DTSTAMP:20260423T173346
CREATED:20250410T023517Z
LAST-MODIFIED:20250410T023639Z
UID:10000077-1751882400-1751900400@michaelhelbing.de
SUMMARY:Die große Vorleseschule
DESCRIPTION:Webinar\nLimitiert auf 5 Plätze \nDein Kurs\, um Kindern oder Senior*innen mit Herz und Stimme vorzulesen \nVorlesen ist mehr als das bloße Übermitteln von Text – es ist ein Moment der Nähe\, der Fantasie und des Verstehens. Ob in der Kita\, im Pflegeheim oder zuhause: Eine gut gestaltete Vorlesestimme kann Welten öffnen\, Erinnerungen wecken und Verbindung schaffen. \nIn diesem Kurs lernst du\, wie du mit deiner Stimme berühren\, fesseln und unterstützen kannst. Entwickle deine persönliche Vorlesestimme und erfahre\, wie du altersgerecht\, achtsam und ausdrucksstark Geschichten lebendig machst – professionell angeleitet von einem erfahrenen Sprecher. \nInhalte:– Grundlagen der Sprechgestaltung: Artikulation\, Rhythmus\, Tempo und Melodie– Zielgruppengerechtes Vorlesen: Unterschiede im Vorlesen für Kinder und Senior*innen– Emotionale Wirkung durch Stimmführung und Atemtechnik– Textverständnis und Betonung: Was muss „ankommen“?– Umgang mit schwierigen oder sensiblen Textstellen– Stimme pflegen\, kräftigen und nachhaltig einsetzen– Praktische Übungen mit individuellem Feedback \nFür wen ist der Kurs gedacht?Für Erzieher*innen\, Pflegekräfte\, Ehrenamtliche\, Eltern\, Großeltern und alle\, die mit ihrer Stimme berühren und Freude schenken möchten.
URL:https://michaelhelbing.de/termin/1098/
LOCATION:Online\, Germany
CATEGORIES:Gesang,Stimmtraining,Webinar
ATTACH;FMTTYPE=image/png:https://michaelhelbing.de/mediathek/2025/01/Atemtherapie-5.png
ORGANIZER;CN="Michael Helbing":MAILTO:info@stimmkontor.com
END:VEVENT
BEGIN:VEVENT
DTSTART;TZID=Europe/Berlin:20250708T180000
DTEND;TZID=Europe/Berlin:20250708T193000
DTSTAMP:20260423T173346
CREATED:20250122T150851Z
LAST-MODIFIED:20250124T103931Z
UID:10000056-1751997600-1752003000@michaelhelbing.de
SUMMARY:Was ist eigentlich eine spasmodische Dysphonie?
DESCRIPTION:In dieser Fortbildung beschäftigen wir uns mit der Behandlung der spasmodischen Dysphonie. Das Spektrum der Erkrankung reicht von Einschränkungen der Stimm- und Sprechfunktion bis hin zu Zwerchfellstörungen und Schluckbeschwerden. Die Betroffenen sind verzweifelt ob der wenigen Anlaufstellen\, ärztlichen und therapeutischen Interventionen und Hilfsmittel. In diesem Kurs ist daher nicht nur die restitutive Therapie der Fokus\, sondern auch die adaptiven Maßnahmen (u.a. Arbeitsplatzanpassung\, Hilfsmittel) und die Selbstfürsorge im Umgang mit der bestehenden Symptomatik. \nPraktisch werden viele Wege erlernt\, die direkt in die Behandlung übertragen werden können. Theoretisch betrachten wir die Risikofaktoren der spasmodischen Dysphonie\, schauen und hören uns Patient*innenbeispiele an\, sprechen über die operativen und medikamentösen Behandlungsmöglichkeiten und diskutieren verschiedene Therapiemodelle. \nTherapeut*innen und Patient*innen fühlen sich oft ratlos im Umgang mit spasmodischen Dysphonien – dieser Kurs möchte durch Wissen neue Wege aufzeigen. \nSeminarinhalte\n\nWas sind Dystonien?\nWas ist Spastizität?\nSteckbrief spasmodische Dysphonie\nTherapeutische Strategin bei laryngealer Dystonie
URL:https://michaelhelbing.de/termin/was-ist-eigentlich-eine-spasmodische-dysphonie/
LOCATION:Logomania\, Fürstenrieder Straße 82b\, München\, Bayern\, 80686\, Germany
CATEGORIES:Neurologie,Stimmtherapie
ATTACH;FMTTYPE=image/png:https://michaelhelbing.de/mediathek/2024/11/5.png
END:VEVENT
END:VCALENDAR