BEGIN:VCALENDAR
VERSION:2.0
PRODID:-//Michael Helbing - ECPv6.15.20//NONSGML v1.0//EN
CALSCALE:GREGORIAN
METHOD:PUBLISH
X-ORIGINAL-URL:https://michaelhelbing.de
X-WR-CALDESC:Veranstaltungen für Michael Helbing
REFRESH-INTERVAL;VALUE=DURATION:PT1H
X-Robots-Tag:noindex
X-PUBLISHED-TTL:PT1H
BEGIN:VTIMEZONE
TZID:Europe/Berlin
BEGIN:DAYLIGHT
TZOFFSETFROM:+0100
TZOFFSETTO:+0200
TZNAME:CEST
DTSTART:20240331T010000
END:DAYLIGHT
BEGIN:STANDARD
TZOFFSETFROM:+0200
TZOFFSETTO:+0100
TZNAME:CET
DTSTART:20241027T010000
END:STANDARD
BEGIN:DAYLIGHT
TZOFFSETFROM:+0100
TZOFFSETTO:+0200
TZNAME:CEST
DTSTART:20250330T010000
END:DAYLIGHT
BEGIN:STANDARD
TZOFFSETFROM:+0200
TZOFFSETTO:+0100
TZNAME:CET
DTSTART:20251026T010000
END:STANDARD
BEGIN:DAYLIGHT
TZOFFSETFROM:+0100
TZOFFSETTO:+0200
TZNAME:CEST
DTSTART:20260329T010000
END:DAYLIGHT
BEGIN:STANDARD
TZOFFSETFROM:+0200
TZOFFSETTO:+0100
TZNAME:CET
DTSTART:20261025T010000
END:STANDARD
END:VTIMEZONE
BEGIN:VEVENT
DTSTART;TZID=Europe/Berlin:20250915T090000
DTEND;TZID=Europe/Berlin:20250915T170000
DTSTAMP:20260423T210246
CREATED:20250122T122804Z
LAST-MODIFIED:20250124T102950Z
UID:10000028-1757926800-1757955600@michaelhelbing.de
SUMMARY:Stimme im Fokus
DESCRIPTION:Gesunde und starke Kommunikation im therapeutischen und pädagogischen Alltag\nDie Sprechstimme – Ressource und Werkzeug\nUnsere Stimme ist eines der wichtigsten Werkzeuge in der therapeutischen oder pädagogischen Arbeit. Ob bei Beratungen\, Anleitungen oder Gesprächen – die Stimme trägt nicht nur unsere Worte\, sondern vermittelt auch unsere innere Botschaft. Dieser Kurs richtet sich an alle therapeutisch oder pädagogisch tätigen Fachkräfte\, die ihr stimmliches Potenzial optimal ausschöpfen und ihre Stimme gezielt und gesund einsetzen möchten.Als Therapeut*in/ Pädagog*in gehören Sie zu den „Leistungssprecher*innen“. Ihre Stimme wird täglich stark beansprucht und benötigt daher Pflege und gezielte Schulung\, um langfristig leistungsfähig und belastbar zu bleiben. Der Kurs basiert auf aktuellen wissenschaftlichen Erkenntnissen und bietet Ihnen praktische Methoden\, um stimmliche Herausforderungen\, wie lautes Sprechen\, Lärm oder störende Umgebungsgeräusche\, erfolgreich zu meistern. \nSchwerpunkte:\n\nGesunde Stimmführung: Wie Sie Ihre Stimme schonen und pflegen.\nPraktische Übungen zur Verbesserung von Stimmkraft\, Klang und Flexibilität.\nStrategien zur Bewältigung stimmlicher Herausforderungen im Arbeitsalltag (Lärm\, Akustik\, Stress).\nEffektive Techniken zur Vorbereitung auf sprecherische Aufgaben.\nDer gezielte Einsatz der Stimme zur Optimierung der Kommunikation mit Klient*innen.\nStimmtraining für den Alltag: Übungen\, die direkt in den beruflichen Kontext integriert werden können.\n\nDieser intensive\, praxisnahe Kurs legt besonderen Wert darauf\, die vermittelten Inhalte direkt in den Alltag zu übertragen. Durch interaktive Übungen und praxisorientierte Methoden lernen Sie\, Ihre Stimme nachhaltig zu schützen und stimmliche Ermüdung zu vermeiden. \nNutzen Sie die Gelegenheit\, Ihre stimmlichen Ressourcen besser kennenzulernen und zu entwickeln. Sorgen Sie mit einem gesunden Umgang Ihrer Stimme für mehr Effizienz und Wirkung in Ihrem beruflichen Alltag. \nLernen Sie\, Ihre Stimme als starkes Werkzeug zu nutzen – für eine erfolgreiche\, gesundheitsbewusste Kommunikation!
URL:https://michaelhelbing.de/termin/stimme-im-fokus/
LOCATION:Wissensstudio\, Günter-Vogt-Ring 29\, Frankfurt am Main\, Hessen\, 60437\, Germany
CATEGORIES:Atemtherapie,Stimmtherapie,Stimmtraining
ATTACH;FMTTYPE=image/png:https://michaelhelbing.de/mediathek/2025/01/Atemtherapie-4.png
END:VEVENT
BEGIN:VEVENT
DTSTART;TZID=Europe/Berlin:20250916T090000
DTEND;TZID=Europe/Berlin:20250916T170000
DTSTAMP:20260423T210246
CREATED:20250122T120914Z
LAST-MODIFIED:20250201T083438Z
UID:10000024-1758013200-1758042000@michaelhelbing.de
SUMMARY:Stimm- und Sprechtherapie bei neurodegenerativen Erkrankungen
DESCRIPTION:Webinar\nFokus: Morbus Parkinson und Multiple Sklerose\nSchwerpunkt Morbus Parkinson\nPatientInnen mit Parkinson sind es gewohnt\, dass nach einiger Zeit die Stimmkraft nachlässt und Verwandte und Freunde nachfragen\, was Sie geäußert haben. Sie vermeiden oft zu telefonieren oder sich in eine Gesellschaft zu begeben aus Angst nicht verstanden oder „gehört“ zu werden. Störungen der Konzentration\, des Mundschlusses\, des Schluckens und der Motorik prägen den Alltag der Betroffenen.\nLernen Sie gezielt eine laute Sprechstimme zu erarbeiten\, ganzheitlich kommunikativen Problemen zu begegnen und die Beweglichkeit und Kraft Ihrer PatientInnen zu unterstützen. \nSchwerpunkt Multiple Sklerose\nFatigue\, Stimmverlust\, Schwierigkeiten der Artikulation – die Krankheit der 1000 Gesichter\, hat auch zahlreiche Auswirkungen auf die Kommunikation. Die Behandlungsansätze differieren hier deutlich zu anderen neurologischen Erkrankungen.\nLernen Sie\, wie Sing- und Sprechstimme\, Atem und Bewegung Ihrer PatientInnen mit MS unterstützt und behandelt werden können. \nSie erhalten ein breites Fachwissen\, diskutieren Therapieinhalte und erarbeiten praxisnahe Therapiemodule. Die Fortbildung ist zu einem großen Teil praktisch ausgelegt um Sie optimal auf den Therapiealltag vorzubereiten.
URL:https://michaelhelbing.de/termin/stimm-und-sprechtherapie-bei-neurodegenerativen-erkrankungen/
LOCATION:Online\, Germany
CATEGORIES:Stimmtherapie,Webinar
ATTACH;FMTTYPE=image/png:https://michaelhelbing.de/mediathek/2024/11/5.png
END:VEVENT
BEGIN:VEVENT
DTSTART;VALUE=DATE:20250920
DTEND;VALUE=DATE:20250922
DTSTAMP:20260423T210246
CREATED:20250122T103018Z
LAST-MODIFIED:20250124T102642Z
UID:10000013-1758326400-1758499199@michaelhelbing.de
SUMMARY:ME/CFS (chronisches Fatigue Syndrom) in der Therapie
DESCRIPTION:Hybrid-Präsenz-Kurs [16 FP]\nDieser Kurs ist als Online-oder Präsenzvariante buchbar. \nMyalgische Enzephalomyelitis / Chronisches Fatigue Syndrom (ME/CFS) ist eine neuroimmunologische\, mitunter postvirale Multisystemerkrankung\, die durch eine Dysregulation des Immunsystems\, des autonomen Nervensystems und des zellulären Energiestoffwechsels gekennzeichnet ist. Obwohl ME/CFS international als eigenständiges Krankheitsbild anerkannt ist\, wird es oft nicht richtig diagnostiziert oder missverstanden. In diesem Kurs lernst du\, die Erkrankung umfassend zu verstehen\, Patienten gezielt zu behandeln und wichtige Informationen darüber zu vermitteln. \nDarüber hinaus widmen wir uns dem Thema Fatigue und beleuchten deren Ursachen und Vorkommen bei unterschiedlichen Erkrankungen wie Multiple Sklerose\, ADHS und somatischen Störungen. \nDer Kurs zeigt dir den Umgang mit ME/CFS und Fatigue-Symptomatik bei Patienten auf. Du lernst\, wie du mit therapeutischen Strategien eine nachhaltige Versorgung sicherstellen kannst. \nKursinhalte:\nGrundlagen zu ME/CFS: \n\nDefinition\, Ursachen\, Diagnostik\nSymptome und Besonderheiten der Erkrankung\nME/CFS aus therapeutischer Sicht Ärztliche Behandlung\n\nSymptome und Herausforderungen: \n\nPost Exertional Malaise (PEM)\nBrain Fog und Konzentrationsprobleme\nOrthostatische Intoleranz\nFatigue als Symptomkomplex und deren unterschiedliche Ursachen\n\nTherapeutische Ansätze: \n\nPacing bei PEM: Strategien zur schrittweisen Anpassung und Belastungsreduktion\nUmgang mit Stress\, Panik und Brain Fog: Praktische Ansätze zur Stabilisierung\nEnergiemanagement und Selbstregulation: Methoden zur effektiven Ressourcenschonung\nAbbau gesellschaftlicher Barrieren und Stigma: Förderung des Verständnisses für Betroffene\n\nNutze diesen Kurs\, um dein Wissen und deine Fähigkeiten im Umgang mit ME/CFS zu vertiefen und eine fundierte\, empathische Unterstützung für Betroffene anzubieten.
URL:https://michaelhelbing.de/termin/me-cfs-chronisches-fatigue-syndrom-in-der-therapie/
LOCATION:MFZ LEIPZIG GMBH & CO KG\, Alter Amtshof 2-4\, Leipzig\, Sachsen\, 04109\, Germany
CATEGORIES:Fatigue
ATTACH;FMTTYPE=image/png:https://michaelhelbing.de/mediathek/2024/11/9.png
END:VEVENT
END:VCALENDAR