BEGIN:VCALENDAR
VERSION:2.0
PRODID:-//Michael Helbing - ECPv6.15.20//NONSGML v1.0//EN
CALSCALE:GREGORIAN
METHOD:PUBLISH
X-WR-CALNAME:Michael Helbing
X-ORIGINAL-URL:https://michaelhelbing.de
X-WR-CALDESC:Veranstaltungen für Michael Helbing
REFRESH-INTERVAL;VALUE=DURATION:PT1H
X-Robots-Tag:noindex
X-PUBLISHED-TTL:PT1H
BEGIN:VTIMEZONE
TZID:Europe/Berlin
BEGIN:DAYLIGHT
TZOFFSETFROM:+0100
TZOFFSETTO:+0200
TZNAME:CEST
DTSTART:20240331T010000
END:DAYLIGHT
BEGIN:STANDARD
TZOFFSETFROM:+0200
TZOFFSETTO:+0100
TZNAME:CET
DTSTART:20241027T010000
END:STANDARD
BEGIN:DAYLIGHT
TZOFFSETFROM:+0100
TZOFFSETTO:+0200
TZNAME:CEST
DTSTART:20250330T010000
END:DAYLIGHT
BEGIN:STANDARD
TZOFFSETFROM:+0200
TZOFFSETTO:+0100
TZNAME:CET
DTSTART:20251026T010000
END:STANDARD
BEGIN:DAYLIGHT
TZOFFSETFROM:+0100
TZOFFSETTO:+0200
TZNAME:CEST
DTSTART:20260329T010000
END:DAYLIGHT
BEGIN:STANDARD
TZOFFSETFROM:+0200
TZOFFSETTO:+0100
TZNAME:CET
DTSTART:20261025T010000
END:STANDARD
END:VTIMEZONE
BEGIN:VEVENT
DTSTART;TZID=Europe/Berlin:20250922T090000
DTEND;TZID=Europe/Berlin:20250922T173000
DTSTAMP:20260423T192646
CREATED:20250122T142728Z
LAST-MODIFIED:20250124T102519Z
UID:10000048-1758531600-1758562200@michaelhelbing.de
SUMMARY:Die Behandlung organischer Stimmstörungen im Kontext der Evidenzbasierten Praxis in Köln!
DESCRIPTION:Live in Köln! \nIn dieser Fortbildung setzen wir uns mit verschiedenen Formen von Stimmerkrankungen auseinander\, die auf organische Ursachen zurückzuführen sind. Lernen Sie eine wissenschaftlich fundierte und evidenzbasierte Herangehensweise kennen\, diese organischen Stimmstörungen zu erkennen\, zu verstehen und effektiv zu behandeln. Organische Stimmstörungen können eine Vielzahl von Ursachen haben\, darunter angeborene Fehlbildungen des Kehlkopfs\, Verletzungen wie Traumata\, Kehlkopfentzündungen\, Phonationsverdickungen\, Wucherungen am Kehlkopf\, Krebserkrankungen und ihre Therapiefolgen\, operative Eingriffe und neurologische Störungen im Bereich der Halswirbelsäule. \nEs werden sowohl konservative als auch operative Behandlungsmöglichkeiten diskutiert\, wobei ein besonderer Fokus auf evidenzbasierten Therapieansätzen liegt. Die logopädische Therapie organisch bedingter Stimmerkrankungen erfordert ein ganzheitliches und individuell angepasstes Vorgehen. In diesem Seminar lernen Sie\, praktische Therapiepläne zu entwickeln\, die sowohl die spezifischen Bedürfnisse Ihrer PatientInnen als auch die neuesten Erkenntnisse der Stimmtherapie berücksichtigen.
URL:https://michaelhelbing.de/termin/die-behandlung-organischer-stimmstoerungen-im-kontext-der-evidenzbasierten-praxis-in-koeln/
LOCATION:ProLog WISSEN GmbH\, Olpener Str. 59\, Köln\, Nordrhein Westfalen\, 51103\, Germany
CATEGORIES:Stimmtherapie
ATTACH;FMTTYPE=image/png:https://michaelhelbing.de/mediathek/2024/11/5.png
END:VEVENT
BEGIN:VEVENT
DTSTART;VALUE=DATE:20250923
DTEND;VALUE=DATE:20250925
DTSTAMP:20260423T192646
CREATED:20250122T133108Z
LAST-MODIFIED:20250124T102447Z
UID:10000039-1758585600-1758758399@michaelhelbing.de
SUMMARY:Unterstützende Techniken für die Palliativmedizin in der pflegerischen und therapeutischen Arbeit
DESCRIPTION:Mit der Atmung der Patient*innen arbeiten\, Qualitäten unterstützen\, individuell-körperlich begleiten. Mit den Methoden des Kurses erlangen Sie manuelle Fertigkeiten\, die Sie in jedweder Situation einsetzen können\, um Ihre palliative Pflege oder Therapie zu optimieren. \nIm Kurs werden grundlegende Aspekte der palliativen\, betreuenden Arbeit vermittelt. Methoden nach den Konzepten Schlaffhorst-Andersen\, V. Glaser\, I. Middendorf und der Klangtherapie werden erarbeitet und praktisch in vielschichtigen Übungssequenzen gefestigt. \nWeiterhin beschäftigt sich der Kurs mit der Atemmassage nach Schlaffhorst-Andersen\, W. Seyd und der klassischen Atemtherapie und arbeitet dabei überwiegend praktisch in Einzel-\, Partner- und Gruppenarbeit. Alle Anteile der Atemmassage werden erlernt\, um Sie in der pflegerischen oder therapeutischen Arbeit einsetzen zu können. \nFür dieses Seminar erhalten Sie 16 Fortbildungspunkte. \nZielgruppe:\nDiese Weiterbildung richtet sich vorrangig an: Logopäd*innen\, Sprachheilpädagog*innen\, Sprachtherapeut*innen\, Pflegefachkräfte\, Mediziner*innen\, Seelsorgerische Kräfte\, Betreuungsfachkräfte\, Ergotherapeut*innen\, Physiotherapeut*innen\, Heilpraktiker*innen\, etc. \nInhalte:\n\nPalliative Care / grundlegende Aspekte der palliativen Begleitung\nmanuelle Techniken zur Begleitung in Therapie und Pflege\nEssen & Trinken als basale Stimulation\nAromen in der palliativen Therapie und Pflege\ndie ethische Auseinandersetzung der palliativen Therapie und Pflege\ndie Atemmassage in der palliativen Begleitung\nder Einsatz der Sing- und Sprechstimme des Begleitenden\nMusik und Gesang in der palliativen Versorgung\nBegleitung von Angehörigen
URL:https://michaelhelbing.de/termin/unterstuetzende-techniken-fuer-die-palliativmedizin-in-der-pflegerischen-und-therapeutischen-arbeit/
LOCATION:Akademie Klausenhof gGmbH\, Klausenhofstr. 100\, Hamminkeln\, 46499\, Germany
CATEGORIES:Atemtherapie,Ethik,palliative Arbeit
ATTACH;FMTTYPE=image/png:https://michaelhelbing.de/mediathek/2024/11/10.png
END:VEVENT
BEGIN:VEVENT
DTSTART;TZID=Europe/Berlin:20250926T080000
DTEND;TZID=Europe/Berlin:20250926T170000
DTSTAMP:20260423T192646
CREATED:20250122T124349Z
LAST-MODIFIED:20250124T102349Z
UID:10000033-1758873600-1758906000@michaelhelbing.de
SUMMARY:Therapeutische Strategien bei Morbus Parkinson in Berlin!
DESCRIPTION:Präsenz in Berlin \nPatienten mit Morbus Parkinson erleben häufig einen Rückgang ihrer Stimmkraft\, was dazu führt\, dass sie sich in sozialen Situationen unsicher fühlen. Viele vermeiden es\, zu telefonieren oder sich in Gesellschaft zu begeben\, aus Angst\, nicht verstanden zu werden. Zusätzlich prägen Störungen der Konzentration\, des Mundschlusses\, des Schluckens und der Motorik ihren Alltag erheblich. \nIn diesem Seminar arbeiten wir praxisnah an therapeutischen Mitteln\, um die Stimmfunktion\, Schluckfunktion und Kognition von Patienten mit Parkinson effektiv zu behandeln. Du lernst gezielte Strategien\, um eine laute und klare Sprechstimme zu erarbeiten\, Schluckstörungen ganzheitlich zu begegnen und die Beweglichkeit sowie Kraft deiner Patienten zu unterstützen. \nDas Essen und Trinken sind für viele Menschen eine selbstverständliche und genussvolle Tätigkeit\, die zugleich soziale Interaktion und Kommunikation ermöglicht. Für Menschen mit Parkinson kann dies jedoch zu einer großen Herausforderung werden. Die Angst vor dem Verschlucken oder gar der Verzicht auf eine natürliche Nahrungsaufnahme kann zu erheblicher Einschränkung der Lebensqualität führen. Zudem kann das Nichtteilnehmen an gemeinsamen Mahlzeiten die Gefahr der sozialen Isolation verstärken. \nSchwere Schluckstörungen\, die oft erst spät erkannt werden\, können unter Umständen sogar lebensbedrohlich sein. Durch das Seminar lernst du\, wie du diesen Herausforderungen mit praktischen\, ganzheitlichen Strategien begegnen kannst\, um die Lebensqualität deiner Patienten nachhaltig zu verbessern.
URL:https://michaelhelbing.de/termin/therapeutische-strategien-bei-morbus-parkinson-in-berlin/
LOCATION:Heimerer Akademie\, Hohmannstraße 7b\, Leipzig\, Sachsen\, 04129
CATEGORIES:Stimmtherapie
ATTACH;FMTTYPE=image/png:https://michaelhelbing.de/mediathek/2024/11/5.png
END:VEVENT
BEGIN:VEVENT
DTSTART;VALUE=DATE:20250927
DTEND;VALUE=DATE:20250929
DTSTAMP:20260423T192646
CREATED:20250122T100726Z
LAST-MODIFIED:20250124T102320Z
UID:10000006-1758931200-1759103999@michaelhelbing.de
SUMMARY:Atemtherapie in der Geriatrie
DESCRIPTION:Konzept Schlaffhorst-Andersen\nDieser Kurs ist als Online- oder Präsenzvariante buchbar \nDieser Kurs bietet eine praxisnahe Weiterbildung in der Atemtherapie für die Geriatrie im Rahmen eines Hybrid Seminars. Den Teilnehmenden steht die Möglichkeit offen\, zwischen einer klassischen Präsenzveranstaltung und einer Teilnahme aus der Ferne zu wählen. Der hybride Ansatz integriert moderne Lehrmethoden und ermöglicht es den Lernenden\, in einer Kombination aus direkter Interaktion und flexiblen Teilnahmeformen von den Vorteilen beider Formate zu profitieren. Dabei werden spezielle Methoden der Ganzkörpertherapie vermittelt\, die gezielt auf die Bedürfnisse älterer Menschen zugeschnitten sind. \nDie Fortbildung in ganzheitlichen Atemtechniken legt großen Wert auf das Zusammenspiel von Atmung\, Aufrichtung\, Bewegung\, Artikulation und Stimme. Im Seminar Konzept Schlaffhorst-Andersen Geriatrie wird ausführlich erläutert\, wie diese wesentlichen Elemente nahtlos integriert werden können. Durch eine enge Verzahnung theoretischer Grundlagen mit praxisorientierten Übungen erwerben die Teilnehmer Kompetenzen\, die sie in der täglichen Arbeit unterstützen. In der Weiterbildung Atem\, Bewegung & Stimme erlernen sie darüber hinaus spezielle Therapiemethoden\, die für die Arbeit mit Menschen in unterschiedlichen pflegerischen und therapeutischen Umfeldern geeignet sind. \nDie Fortbildung richtet sich vor allem an Therapeutinnen und Therapeuten\, die ihre beruflichen Fähigkeiten im Bereich der Geriatrie erweitern möchten. Die praxisnah aufbereiteten Inhalte fördern eine effiziente Arbeitsweise und ermöglichen den Teilnehmenden\, das Gelernte unmittelbar in ihren Berufsalltag zu integrieren. Das Konzept Schlaffhorst verbindet in Kombination mit weiteren innovativen Weiterbildungsmethoden der Atemtherapie fundiertes Wissen und wertvolle praktische Erfahrungen. Die hybride Seminarstruktur ist so gestaltet\, dass sie flexibel auf individuelle Lernbedürfnisse eingehen kann\, ohne den wertvollen Aspekt der persönlichen Interaktion zu vernachlässigen. Der Austausch zwischen den Teilnehmern und Referenten wird dabei aktiv gefördert\, wodurch ein vertieftes Verständnis und eine inspirierende Lernatmosphäre entstehen. \nKursinhalte: \n\nDie Physiologie des Alterns\nFörderung einer ökonomisch-physiologischen Atem-\, Stimm-\, Schluck- und Bewegungsform\nBewegungstraining für Einzel- und Gruppentherapie\nKognitive Förderung und Therapie bei dementiellen Entwicklungen\nGrundlegende Aspekte der palliativen Begleitung\nManuelle Techniken zur Begleitung in Therapie und Pflege\nTherapie von Presbyphagien und Presbyphonien\nEssen & Trinken als basale Stimulation\nDie ethische Auseinandersetzung der Therapie und Pflege\nDer Einsatz der Sing- und Sprechstimme\nBegleitung von Angehörigen\n\nDurch den modularen Aufbau sowie den Hybrid Seminar Ansatz werden die individuellen Bedürfnisse der Teilnehmer berücksichtigt. Die Ausbildung schließt mit einem fundierten Überblick der Spezialgebiete ab.
URL:https://michaelhelbing.de/termin/atemtherapie-in-der-geriatrie/
LOCATION:MFZ BERLIN GMBH & CO KG\, Mariendorfer Damm 159\, Berlin\, Berlin\, 12107
CATEGORIES:Atemtherapie
ATTACH;FMTTYPE=image/png:https://michaelhelbing.de/mediathek/2024/11/1.png
ORGANIZER;CN="MFZ MFZ BERLIN GMBH & CO KG":MAILTO:info@mfz-berlin.de
END:VEVENT
END:VCALENDAR