BEGIN:VCALENDAR
VERSION:2.0
PRODID:-//Michael Helbing - ECPv6.15.20//NONSGML v1.0//EN
CALSCALE:GREGORIAN
METHOD:PUBLISH
X-WR-CALNAME:Michael Helbing
X-ORIGINAL-URL:https://michaelhelbing.de
X-WR-CALDESC:Veranstaltungen für Michael Helbing
REFRESH-INTERVAL;VALUE=DURATION:PT1H
X-Robots-Tag:noindex
X-PUBLISHED-TTL:PT1H
BEGIN:VTIMEZONE
TZID:Europe/Berlin
BEGIN:DAYLIGHT
TZOFFSETFROM:+0100
TZOFFSETTO:+0200
TZNAME:CEST
DTSTART:20240331T010000
END:DAYLIGHT
BEGIN:STANDARD
TZOFFSETFROM:+0200
TZOFFSETTO:+0100
TZNAME:CET
DTSTART:20241027T010000
END:STANDARD
BEGIN:DAYLIGHT
TZOFFSETFROM:+0100
TZOFFSETTO:+0200
TZNAME:CEST
DTSTART:20250330T010000
END:DAYLIGHT
BEGIN:STANDARD
TZOFFSETFROM:+0200
TZOFFSETTO:+0100
TZNAME:CET
DTSTART:20251026T010000
END:STANDARD
BEGIN:DAYLIGHT
TZOFFSETFROM:+0100
TZOFFSETTO:+0200
TZNAME:CEST
DTSTART:20260329T010000
END:DAYLIGHT
BEGIN:STANDARD
TZOFFSETFROM:+0200
TZOFFSETTO:+0100
TZNAME:CET
DTSTART:20261025T010000
END:STANDARD
END:VTIMEZONE
BEGIN:VEVENT
DTSTART;TZID=Europe/Berlin:20251125T180000
DTEND;TZID=Europe/Berlin:20251125T203000
DTSTAMP:20260424T001905
CREATED:20250122T123019Z
LAST-MODIFIED:20250124T101246Z
UID:10000029-1764093600-1764102600@michaelhelbing.de
SUMMARY:Erzählzauber - Kinder spielerisch zu starken Erzähler*innen machen
DESCRIPTION:Intensivkurs zur Förderung der Erzählfähigkeit bei Kindern für Therapeut*innen und Pädagog*innen \nIn diesem praxisorientierten Kurs lernen Therapeut*innen und Pädagog*innen\, wie sie gezielt die Erzählfähigkeit von Kindern fördern können. Die Fähigkeit\, Geschichten strukturiert und kohärent zu erzählen\, ist nicht nur für den schulischen Erfolg\, sondern auch für die soziale und emotionale Entwicklung von Kindern von entscheidender Bedeutung. \nWir setzen uns intensiv mit aktuellen wissenschaftlichen Erkenntnissen und Strategien auseinander und erarbeiten praktische Interventionen\, die direkt in den Praxisalltag integriert werden können. Neben theoretischen Grundlagen liegt der Schwerpunkt auf der Umsetzung von spielerischen Methoden wie dem Einsatz von Geschichten\, Musik und kreativen Spielideen. So schaffen wir eine Lernumgebung\, die nicht nur effektiv\, sondern auch unterhaltsam ist. \nDer Kurs vermittelt vielfältige Techniken\, um die sprachliche Ausdrucksfähigkeit von Kindern zu verbessern und die Freude am Erzählen zu steigern. Wir arbeiten eng mit den Themen Kohärenz\, Kohäsion und Theory of Mind und entwickeln gemeinsam Ansätze\, wie diese in Einzel- und Gruppeninterventionen genutzt werden können. \nKursinhalte: \n\nErzählfähigkeit – was ist das?\nVertiefung des Verständnisses von Textgrammatikstörungen und deren Ursachen\nPraktische Übungen zur Förderung der Erzählfähigkeit im therapeutischen Alltag\nInnovative Strategien zur Unterstützung der narrativen Kompetenz von Kindern\nIntegration von Musik\, Geschichten und spielerischen Elementen\n\nDieser Kurs ist ideal für alle\, die ihre Kompetenzen in der Sprach- und Erzählförderung erweitern und Kinder auf ihrem Weg zu selbstbewussten Erzähler*innen begleiten möchten. \nMelden Sie sich an und lassen Sie uns gemeinsam die Welt der Geschichten für Kinder erlebbar machen! \nDas Seminar findet als Online-Seminar statt.
URL:https://michaelhelbing.de/termin/erzaehlzauber-kinder-spielerisch-zu-starken-erzaehlerinnen-machen/
LOCATION:Wissensstudio\, Günter-Vogt-Ring 29\, Frankfurt am Main\, Hessen\, 60437\, Germany
CATEGORIES:Sprachtherapie,Stimmtherapie
ATTACH;FMTTYPE=image/png:https://michaelhelbing.de/mediathek/2024/11/11.png
END:VEVENT
BEGIN:VEVENT
DTSTART;VALUE=DATE:20251129
DTEND;VALUE=DATE:20251201
DTSTAMP:20260424T001905
CREATED:20250122T124812Z
LAST-MODIFIED:20250124T101233Z
UID:10000035-1764374400-1764547199@michaelhelbing.de
SUMMARY:Intensivkurs Praktische Stimmtherapie
DESCRIPTION:Die stimmtherapeutische Landschaft ist vielfältig und komplex. In diesem Kurs erarbeiten wir gemeinsam die praktische Anwendung bewährter stimmtherapeutischer Tools\, die durch wissenschaftliche Forschung und kollegiale Erfahrungswerte als besonders wirkungsvoll eingestuft wurden. \nSie lernen\, wann welche Techniken am besten eingesetzt werden und erhalten Klarheit über die Struktur und Anwendung der verschiedenen Methoden. In Einzel- und Gruppensituationen arbeiten wir an unterschiedlichen stimmlichen Qualitäten\, diskutieren klinische Urteilsbildung und räumen Missverständnisse aus dem Weg\, um Ihnen eine effektive Unterstützung in der Praxis zu bieten. \nInhalte:\n\nDie Dysphonien – Überblick über Störungsbilder und Diagnostiken\nStimmtherapeutische Strategien mit wissenschaftlicher Evidenz kennenlernen und anwenden\nPraktische Arbeit in der Stimmtherapie\nKlinische Urteilsbildung in der Stimmtherapie\nLAX VOX®\, Straw und Kazoo – der Einsatz von Übungen mit teilweise verschlossenem Vokaltrakt\nEinsatz der lokalen Vibrationstherapie mit dem NOVAFON in der Stimmtherapie\nDer Wert der Körperarbeit in der Stimmtherapie – Möglichkeiten und Grenzen\nDer Einsatz der manuellen Stimmtherapie\nSchlaffhorst-Andersen – ein Konzept voller Möglichkeiten\nStimmhygiene auf dem Prüfstand\, was hat noch Relevanz?
URL:https://michaelhelbing.de/termin/intensivkurs-praktische-stimmtherapie/
LOCATION:PODIUM Hamburg\, Sternstraße 106\, Hamburg\, Hamburg\, 20357\, Germany
CATEGORIES:Stimmtherapie
ATTACH;FMTTYPE=image/png:https://michaelhelbing.de/mediathek/2024/11/5.png
END:VEVENT
END:VCALENDAR