BEGIN:VCALENDAR
VERSION:2.0
PRODID:-//Michael Helbing - ECPv6.15.20//NONSGML v1.0//EN
CALSCALE:GREGORIAN
METHOD:PUBLISH
X-ORIGINAL-URL:https://michaelhelbing.de
X-WR-CALDESC:Veranstaltungen für Michael Helbing
REFRESH-INTERVAL;VALUE=DURATION:PT1H
X-Robots-Tag:noindex
X-PUBLISHED-TTL:PT1H
BEGIN:VTIMEZONE
TZID:Europe/Berlin
BEGIN:DAYLIGHT
TZOFFSETFROM:+0100
TZOFFSETTO:+0200
TZNAME:CEST
DTSTART:20240331T010000
END:DAYLIGHT
BEGIN:STANDARD
TZOFFSETFROM:+0200
TZOFFSETTO:+0100
TZNAME:CET
DTSTART:20241027T010000
END:STANDARD
BEGIN:DAYLIGHT
TZOFFSETFROM:+0100
TZOFFSETTO:+0200
TZNAME:CEST
DTSTART:20250330T010000
END:DAYLIGHT
BEGIN:STANDARD
TZOFFSETFROM:+0200
TZOFFSETTO:+0100
TZNAME:CET
DTSTART:20251026T010000
END:STANDARD
BEGIN:DAYLIGHT
TZOFFSETFROM:+0100
TZOFFSETTO:+0200
TZNAME:CEST
DTSTART:20260329T010000
END:DAYLIGHT
BEGIN:STANDARD
TZOFFSETFROM:+0200
TZOFFSETTO:+0100
TZNAME:CET
DTSTART:20261025T010000
END:STANDARD
BEGIN:DAYLIGHT
TZOFFSETFROM:+0100
TZOFFSETTO:+0200
TZNAME:CEST
DTSTART:20270328T010000
END:DAYLIGHT
BEGIN:STANDARD
TZOFFSETFROM:+0200
TZOFFSETTO:+0100
TZNAME:CET
DTSTART:20271031T010000
END:STANDARD
END:VTIMEZONE
BEGIN:VEVENT
DTSTART;VALUE=DATE:20260304
DTEND;VALUE=DATE:20260306
DTSTAMP:20260424T075852
CREATED:20251211T111731Z
LAST-MODIFIED:20251211T111731Z
UID:10000125-1772582400-1772755199@michaelhelbing.de
SUMMARY:EFFEKTIVE STIMMARBEIT MIT SOVTE
DESCRIPTION:Tauchen Sie ein in zwei intensive Tage voller praktischer Übungen\, wissenschaftlicher Erkenntnisse und direkter Anwendbarkeit für Ihre Arbeit mit Stimme\nWissenschaftlich fundiert & praxisnah \nEntdecken Sie eine fundierte und zugleich praxisnahe Herangehensweise an Stimmbildung und Stimmtherapie mit Übungen des Semi-Occluded Vocal Tract (SOVTE). Diese Methode ist leicht erlernbar\, im Alltag gut umsetzbar und individuell anpassbar – ideal für den Einsatz in Therapie\, Gesang und Sprechtraining. \nSOVTE haben sich in der Stimmtherapie\, insbesondere im angloamerikanischen Raum\, als wirksames Instrument etabliert und gewinnen auch im deutschsprachigen Bereich zunehmend an Bedeutung – sowohl bei der Behandlung von Stimmstörungen als auch in der professionellen Stimmbildung. Zu den bewährten Übungen zählen unter anderem Lip Trills\, Straw Phonation und LaxVox\, die gezielt Atmung\, Stimmgebung und Resonanz fördern. \nIn diesem Kurs lernen Sie\, wie SOVTE gezielt in der Therapie und im Training eingesetzt werden können. Sie erproben verschiedene Anwendungen\, schulen Ihr Gehör und setzen sich mit aktuellen wissenschaftlichen Erkenntnissen auseinander – für ein tieferes Verständnis und eine nachhaltige Wirkung in der Praxis. \n 
URL:https://michaelhelbing.de/termin/effektive-stimmarbeit-mit-sovte/
LOCATION:Akademie Klausenhof gGmbH\, Klausenhofstr. 100\, Hamminkeln\, 46499\, Germany
CATEGORIES:Atemtherapie,Gesang,LAX VOX ®,NOVAFON,Stimmtherapie,Stimmtraining
ATTACH;FMTTYPE=image/png:https://michaelhelbing.de/mediathek/2024/11/5.png
END:VEVENT
BEGIN:VEVENT
DTSTART;VALUE=DATE:20250923
DTEND;VALUE=DATE:20250925
DTSTAMP:20260424T075852
CREATED:20250122T133108Z
LAST-MODIFIED:20250124T102447Z
UID:10000039-1758585600-1758758399@michaelhelbing.de
SUMMARY:Unterstützende Techniken für die Palliativmedizin in der pflegerischen und therapeutischen Arbeit
DESCRIPTION:Mit der Atmung der Patient*innen arbeiten\, Qualitäten unterstützen\, individuell-körperlich begleiten. Mit den Methoden des Kurses erlangen Sie manuelle Fertigkeiten\, die Sie in jedweder Situation einsetzen können\, um Ihre palliative Pflege oder Therapie zu optimieren. \nIm Kurs werden grundlegende Aspekte der palliativen\, betreuenden Arbeit vermittelt. Methoden nach den Konzepten Schlaffhorst-Andersen\, V. Glaser\, I. Middendorf und der Klangtherapie werden erarbeitet und praktisch in vielschichtigen Übungssequenzen gefestigt. \nWeiterhin beschäftigt sich der Kurs mit der Atemmassage nach Schlaffhorst-Andersen\, W. Seyd und der klassischen Atemtherapie und arbeitet dabei überwiegend praktisch in Einzel-\, Partner- und Gruppenarbeit. Alle Anteile der Atemmassage werden erlernt\, um Sie in der pflegerischen oder therapeutischen Arbeit einsetzen zu können. \nFür dieses Seminar erhalten Sie 16 Fortbildungspunkte. \nZielgruppe:\nDiese Weiterbildung richtet sich vorrangig an: Logopäd*innen\, Sprachheilpädagog*innen\, Sprachtherapeut*innen\, Pflegefachkräfte\, Mediziner*innen\, Seelsorgerische Kräfte\, Betreuungsfachkräfte\, Ergotherapeut*innen\, Physiotherapeut*innen\, Heilpraktiker*innen\, etc. \nInhalte:\n\nPalliative Care / grundlegende Aspekte der palliativen Begleitung\nmanuelle Techniken zur Begleitung in Therapie und Pflege\nEssen & Trinken als basale Stimulation\nAromen in der palliativen Therapie und Pflege\ndie ethische Auseinandersetzung der palliativen Therapie und Pflege\ndie Atemmassage in der palliativen Begleitung\nder Einsatz der Sing- und Sprechstimme des Begleitenden\nMusik und Gesang in der palliativen Versorgung\nBegleitung von Angehörigen
URL:https://michaelhelbing.de/termin/unterstuetzende-techniken-fuer-die-palliativmedizin-in-der-pflegerischen-und-therapeutischen-arbeit/
LOCATION:Akademie Klausenhof gGmbH\, Klausenhofstr. 100\, Hamminkeln\, 46499\, Germany
CATEGORIES:Atemtherapie,Ethik,palliative Arbeit
ATTACH;FMTTYPE=image/png:https://michaelhelbing.de/mediathek/2024/11/10.png
END:VEVENT
BEGIN:VEVENT
DTSTART;VALUE=DATE:20250325
DTEND;VALUE=DATE:20250327
DTSTAMP:20260424T075852
CREATED:20250122T133231Z
LAST-MODIFIED:20250220T085547Z
UID:10000040-1742860800-1743033599@michaelhelbing.de
SUMMARY:Gut bei Stimme mit SOVTE?!
DESCRIPTION:Effektive Stimmarbeit mit SOVTE – Wissenschaftlich fundiert & praxisnah \nErleben Sie eine fundierte Herangehensweise an Stimmbildung und Stimmtherapie mit Übungen des Semi-Occluded Vocal Tract (SOVTE). Diese Methode ist leicht erlernbar\, alltagstauglich und individuell anpassbar – ideal für Therapie\, Gesang und Sprechtraining. \nUnser Kurs vermittelt praxisnah\, wie SOVTE gezielt in der Therapie und im Training eingesetzt werden können. Sie lernen verschiedene Anwendungen kennen\, schärfen Ihr Gehör und diskutieren den aktuellen Stand der Forschung. \nTauchen Sie ein in zwei intensive Tage voller praktischer Übungen\, wissenschaftlicher Erkenntnisse und direkter Anwendbarkeit für Ihre Arbeit mit Stimme! \nFür dieses Seminar erhalten Sie 16 Fortbildungspunkte.
URL:https://michaelhelbing.de/termin/gut-bei-stimme-mit-sovte-2/
LOCATION:Akademie Klausenhof gGmbH\, Klausenhofstr. 100\, Hamminkeln\, 46499\, Germany
CATEGORIES:Stimmtherapie
ATTACH;FMTTYPE=image/png:https://michaelhelbing.de/mediathek/2024/11/5.png
END:VEVENT
END:VCALENDAR